BEGIN:VCALENDAR
VERSION:2.0
PRODID:-//La maison du Marais - ECPv6.15.20//NONSGML v1.0//EN
CALSCALE:GREGORIAN
METHOD:PUBLISH
X-WR-CALNAME:La maison du Marais
X-ORIGINAL-URL:https://www.lamaisondumarais.ch
X-WR-CALDESC:Évènements pour La maison du Marais
REFRESH-INTERVAL;VALUE=DURATION:PT1H
X-Robots-Tag:noindex
X-PUBLISHED-TTL:PT1H
BEGIN:VTIMEZONE
TZID:Europe/Paris
BEGIN:DAYLIGHT
TZOFFSETFROM:+0100
TZOFFSETTO:+0200
TZNAME:CEST
DTSTART:20240331T010000
END:DAYLIGHT
BEGIN:STANDARD
TZOFFSETFROM:+0200
TZOFFSETTO:+0100
TZNAME:CET
DTSTART:20241027T010000
END:STANDARD
BEGIN:DAYLIGHT
TZOFFSETFROM:+0100
TZOFFSETTO:+0200
TZNAME:CEST
DTSTART:20250330T010000
END:DAYLIGHT
BEGIN:STANDARD
TZOFFSETFROM:+0200
TZOFFSETTO:+0100
TZNAME:CET
DTSTART:20251026T010000
END:STANDARD
BEGIN:DAYLIGHT
TZOFFSETFROM:+0100
TZOFFSETTO:+0200
TZNAME:CEST
DTSTART:20260329T010000
END:DAYLIGHT
BEGIN:STANDARD
TZOFFSETFROM:+0200
TZOFFSETTO:+0100
TZNAME:CET
DTSTART:20261025T010000
END:STANDARD
END:VTIMEZONE
BEGIN:VEVENT
DTSTART;TZID=Europe/Paris:20250623T090000
DTEND;TZID=Europe/Paris:20250623T103000
DTSTAMP:20260425T181829
CREATED:20241125T144438Z
LAST-MODIFIED:20250512T132351Z
UID:10002842-1750669200-1750674600@www.lamaisondumarais.ch
SUMMARY:Marche nordique
DESCRIPTION:Julie vous guide sur les chemins pédestres aux alentours de Plan-les-Ouates\, et parfois plus loin\, pour partager ensemble les bienfaits de la marche nordique ALFA en toute convivialité et bienveillance. \nPrix: CHF 10.-/séance donc CHF 70.- la série de 7 séances. À régler directement auprès de Julie \nContact: julievouslit@gmail.com / 076 426 12 40 \n  \nJulie est instructrice de marche nordique\, certifiée par SPAS-S\, membre de esa – Sport des adultes Suisse. Depuis 2023\, elle enseigne la marche nordique en cours collectifs ou cours privés. Prochain cours d’initiation au printemps 2025.
URL:https://www.lamaisondumarais.ch/event/marche-nordique-groupe/2025-06-23/
LOCATION:La Maison du Marais\, Chemin de Vers 36 Plan-les-Ouates\, Genève\, 1228\, Suisse
CATEGORIES:SPORT
ATTACH;FMTTYPE=image/jpeg:https://www.lamaisondumarais.ch/wp-content/uploads/2024/05/marche-nordique.jpg
ORGANIZER;CN="La Maison du Marais":MAILTO:info@lamaisondumarais.ch
END:VEVENT
BEGIN:VEVENT
DTSTART;TZID=Europe/Paris:20250620T103000
DTEND;TZID=Europe/Paris:20250620T120000
DTSTAMP:20260425T181829
CREATED:20230818T191201Z
LAST-MODIFIED:20250606T124947Z
UID:10002426-1750415400-1750420800@www.lamaisondumarais.ch
SUMMARY:Apéro canadien
DESCRIPTION:Venez partager un apéritif convivial\, où chacun est invité à apporter un petit quelque chose à partager. \nDe 0 à 99 ans
URL:https://www.lamaisondumarais.ch/event/apero-canadien/2025-06-20/
LOCATION:La Maison du Marais\, Chemin de Vers 36 Plan-les-Ouates\, Genève\, 1228\, Suisse
CATEGORIES:CONVIVIALITÉ
ATTACH;FMTTYPE=image/jpeg:https://www.lamaisondumarais.ch/wp-content/uploads/2023/08/apero-canadien.jpg
ORGANIZER;CN="La Maison du Marais":MAILTO:info@lamaisondumarais.ch
END:VEVENT
BEGIN:VEVENT
DTSTART;TZID=Europe/Paris:20250619T090000
DTEND;TZID=Europe/Paris:20250619T110000
DTSTAMP:20260425T181829
CREATED:20240314T091635Z
LAST-MODIFIED:20250606T124627Z
UID:10002370-1750323600-1750330800@www.lamaisondumarais.ch
SUMMARY:Pause Café
DESCRIPTION:Envie de rencontrer des habitants de votre quartier ? D’échanger une discussion autour d’un bon café croissant ? \nVenez comme vous êtes\, les bénévoles de la Maison du Marais vous accueillent avec grand plaisir!
URL:https://www.lamaisondumarais.ch/event/pause-cafe-2-2-2/2025-06-19/
LOCATION:La Maison du Marais\, Chemin de Vers 36 Plan-les-Ouates\, Genève\, 1228\, Suisse
CATEGORIES:CONVIVIALITÉ
ATTACH;FMTTYPE=image/jpeg:https://www.lamaisondumarais.ch/wp-content/uploads/2023/08/pause-cafe.jpg
ORGANIZER;CN="La Maison du Marais":MAILTO:info@lamaisondumarais.ch
END:VEVENT
BEGIN:VEVENT
DTSTART;TZID=Europe/Paris:20250618T090000
DTEND;TZID=Europe/Paris:20250618T110000
DTSTAMP:20260425T181829
CREATED:20240314T091635Z
LAST-MODIFIED:20250606T124627Z
UID:10002369-1750237200-1750244400@www.lamaisondumarais.ch
SUMMARY:Pause Café
DESCRIPTION:Envie de rencontrer des habitants de votre quartier ? D’échanger une discussion autour d’un bon café croissant ? \nVenez comme vous êtes\, les bénévoles de la Maison du Marais vous accueillent avec grand plaisir!
URL:https://www.lamaisondumarais.ch/event/pause-cafe-2-2-2/2025-06-18/
LOCATION:La Maison du Marais\, Chemin de Vers 36 Plan-les-Ouates\, Genève\, 1228\, Suisse
CATEGORIES:CONVIVIALITÉ
ATTACH;FMTTYPE=image/jpeg:https://www.lamaisondumarais.ch/wp-content/uploads/2023/08/pause-cafe.jpg
ORGANIZER;CN="La Maison du Marais":MAILTO:info@lamaisondumarais.ch
END:VEVENT
BEGIN:VEVENT
DTSTART;TZID=Europe/Paris:20250617T180000
DTEND;TZID=Europe/Paris:20250617T190000
DTSTAMP:20260425T181829
CREATED:20250131T113439Z
LAST-MODIFIED:20250606T125710Z
UID:10003275-1750183200-1750186800@www.lamaisondumarais.ch
SUMMARY:Hatha Yoga
DESCRIPTION:Lina vous propose un cours de Hatha Yoga. \nCette pratique se concentre sur les postures (asanas) et la respiration (pranayama)\, afin de favoriser la préparation à la méditation. Le Hatha est une forme de yoga doux car les postures y sont tenues longtemps\, plusieurs respirations\, ce qui le distingue des yogas dynamiques dont fait partie le Vinyasa. \nPrix: CHF 10.- le cours\, à régler directement auprès de Lina – 076 528 78 79
URL:https://www.lamaisondumarais.ch/event/hatha-yoga-3/2025-06-17/
LOCATION:La Maison du Marais\, Chemin de Vers 36 Plan-les-Ouates\, Genève\, 1228\, Suisse
CATEGORIES:SPORT
ATTACH;FMTTYPE=image/jpeg:https://www.lamaisondumarais.ch/wp-content/uploads/2024/01/hatha-yoga.jpg
ORGANIZER;CN="La Maison du Marais":MAILTO:info@lamaisondumarais.ch
END:VEVENT
BEGIN:VEVENT
DTSTART;TZID=Europe/Paris:20250617T090000
DTEND;TZID=Europe/Paris:20250617T110000
DTSTAMP:20260425T181829
CREATED:20241028T130204Z
LAST-MODIFIED:20250606T125810Z
UID:10002482-1750150800-1750158000@www.lamaisondumarais.ch
SUMMARY:Tricot avec Brigitte
DESCRIPTION:Brigitte vous propose de vous faire découvrir le tricot ou bien de composer ensemble de jolies pièces. \n 
URL:https://www.lamaisondumarais.ch/event/tricot-avec-brigitte-2-2-2/2025-06-17/
LOCATION:La Maison du Marais\, Chemin de Vers 36 Plan-les-Ouates\, Genève\, 1228\, Suisse
CATEGORIES:LOISIRS
ATTACH;FMTTYPE=image/webp:https://www.lamaisondumarais.ch/wp-content/uploads/2023/08/tricot.webp
ORGANIZER;CN="La Maison du Marais":MAILTO:info@lamaisondumarais.ch
END:VEVENT
BEGIN:VEVENT
DTSTART;TZID=Europe/Paris:20250617T090000
DTEND;TZID=Europe/Paris:20250617T110000
DTSTAMP:20260425T181829
CREATED:20240314T091635Z
LAST-MODIFIED:20250606T124627Z
UID:10002368-1750150800-1750158000@www.lamaisondumarais.ch
SUMMARY:Pause Café
DESCRIPTION:Envie de rencontrer des habitants de votre quartier ? D’échanger une discussion autour d’un bon café croissant ? \nVenez comme vous êtes\, les bénévoles de la Maison du Marais vous accueillent avec grand plaisir!
URL:https://www.lamaisondumarais.ch/event/pause-cafe-2-2-2/2025-06-17/
LOCATION:La Maison du Marais\, Chemin de Vers 36 Plan-les-Ouates\, Genève\, 1228\, Suisse
CATEGORIES:CONVIVIALITÉ
ATTACH;FMTTYPE=image/jpeg:https://www.lamaisondumarais.ch/wp-content/uploads/2023/08/pause-cafe.jpg
ORGANIZER;CN="La Maison du Marais":MAILTO:info@lamaisondumarais.ch
END:VEVENT
BEGIN:VEVENT
DTSTART;TZID=Europe/Paris:20250616T190000
DTEND;TZID=Europe/Paris:20250616T210000
DTSTAMP:20260425T181829
CREATED:20250131T110240Z
LAST-MODIFIED:20250131T110240Z
UID:10002874-1750100400-1750107600@www.lamaisondumarais.ch
SUMMARY:Assemblée Générale
DESCRIPTION:Assemblée Générale annuelle de l’association La Maison du Marais. \nEvénement réservé aux membres. \n  \n>>> Devenez membre avant l’AG pour y participer et faire entendre votre voix
URL:https://www.lamaisondumarais.ch/event/assemblee-generale-2/
LOCATION:La Maison du Marais\, Chemin de Vers 36 Plan-les-Ouates\, Genève\, 1228\, Suisse
CATEGORIES:INTERGENERATIONNEL
ATTACH;FMTTYPE=image/png:https://www.lamaisondumarais.ch/wp-content/uploads/2020/06/logo.png
ORGANIZER;CN="La Maison du Marais":MAILTO:info@lamaisondumarais.ch
END:VEVENT
BEGIN:VEVENT
DTSTART;TZID=Europe/Paris:20250616T090000
DTEND;TZID=Europe/Paris:20250616T110000
DTSTAMP:20260425T181829
CREATED:20240314T091635Z
LAST-MODIFIED:20250606T124627Z
UID:10002367-1750064400-1750071600@www.lamaisondumarais.ch
SUMMARY:Pause Café
DESCRIPTION:Envie de rencontrer des habitants de votre quartier ? D’échanger une discussion autour d’un bon café croissant ? \nVenez comme vous êtes\, les bénévoles de la Maison du Marais vous accueillent avec grand plaisir!
URL:https://www.lamaisondumarais.ch/event/pause-cafe-2-2-2/2025-06-16/
LOCATION:La Maison du Marais\, Chemin de Vers 36 Plan-les-Ouates\, Genève\, 1228\, Suisse
CATEGORIES:CONVIVIALITÉ
ATTACH;FMTTYPE=image/jpeg:https://www.lamaisondumarais.ch/wp-content/uploads/2023/08/pause-cafe.jpg
ORGANIZER;CN="La Maison du Marais":MAILTO:info@lamaisondumarais.ch
END:VEVENT
BEGIN:VEVENT
DTSTART;TZID=Europe/Paris:20250616T090000
DTEND;TZID=Europe/Paris:20250616T103000
DTSTAMP:20260425T181829
CREATED:20241125T144438Z
LAST-MODIFIED:20250512T132351Z
UID:10002841-1750064400-1750069800@www.lamaisondumarais.ch
SUMMARY:Marche nordique
DESCRIPTION:Julie vous guide sur les chemins pédestres aux alentours de Plan-les-Ouates\, et parfois plus loin\, pour partager ensemble les bienfaits de la marche nordique ALFA en toute convivialité et bienveillance. \nPrix: CHF 10.-/séance donc CHF 70.- la série de 7 séances. À régler directement auprès de Julie \nContact: julievouslit@gmail.com / 076 426 12 40 \n  \nJulie est instructrice de marche nordique\, certifiée par SPAS-S\, membre de esa – Sport des adultes Suisse. Depuis 2023\, elle enseigne la marche nordique en cours collectifs ou cours privés. Prochain cours d’initiation au printemps 2025.
URL:https://www.lamaisondumarais.ch/event/marche-nordique-groupe/2025-06-16/
LOCATION:La Maison du Marais\, Chemin de Vers 36 Plan-les-Ouates\, Genève\, 1228\, Suisse
CATEGORIES:SPORT
ATTACH;FMTTYPE=image/jpeg:https://www.lamaisondumarais.ch/wp-content/uploads/2024/05/marche-nordique.jpg
ORGANIZER;CN="La Maison du Marais":MAILTO:info@lamaisondumarais.ch
END:VEVENT
BEGIN:VEVENT
DTSTART;TZID=Europe/Paris:20250615T104500
DTEND;TZID=Europe/Paris:20250615T140000
DTSTAMP:20260425T181829
CREATED:20250131T105956Z
LAST-MODIFIED:20250506T151212Z
UID:10002873-1749984300-1749996000@www.lamaisondumarais.ch
SUMMARY:Spectacle & Brunch familial
DESCRIPTION:Voilà une activité pour les familles avec enfants! \nLe spectacle musical qui convient aux enfants dès 1 an débutera à 11h00 précises et sera suivi du brunch familial. \nPrix: Adulte 36.- chf ; Enfant 2.- chf par année d’âge \n  \nPlaces limitées\, inscrivez-vous dès à présent! \nDeux actions sont à réaliser en simultané pour assurer votre place:\n1. Paiement à La Maison du Marais CH49 8080 8005 0931 4873 4  avec l’information « brunch + votre nom »\n2. Un email à info@lamaisondumarais.ch en précisant le nombre d’adultes\, le nombre d’enfants et leur âge \n 
URL:https://www.lamaisondumarais.ch/event/fete-de-l-ete/
LOCATION:La Maison du Marais\, Chemin de Vers 36 Plan-les-Ouates\, Genève\, 1228\, Suisse
CATEGORIES:CRÉATIVITÉ
ATTACH;FMTTYPE=image/png:https://www.lamaisondumarais.ch/wp-content/uploads/2025/01/Spectacle-et-brunch-15.6.25.png
ORGANIZER;CN="La Maison du Marais":MAILTO:info@lamaisondumarais.ch
END:VEVENT
BEGIN:VEVENT
DTSTART;TZID=Europe/Paris:20250613T103000
DTEND;TZID=Europe/Paris:20250613T120000
DTSTAMP:20260425T181829
CREATED:20230818T191201Z
LAST-MODIFIED:20250606T124947Z
UID:10002425-1749810600-1749816000@www.lamaisondumarais.ch
SUMMARY:Apéro canadien
DESCRIPTION:Venez partager un apéritif convivial\, où chacun est invité à apporter un petit quelque chose à partager. \nDe 0 à 99 ans
URL:https://www.lamaisondumarais.ch/event/apero-canadien/2025-06-13/
LOCATION:La Maison du Marais\, Chemin de Vers 36 Plan-les-Ouates\, Genève\, 1228\, Suisse
CATEGORIES:CONVIVIALITÉ
ATTACH;FMTTYPE=image/jpeg:https://www.lamaisondumarais.ch/wp-content/uploads/2023/08/apero-canadien.jpg
ORGANIZER;CN="La Maison du Marais":MAILTO:info@lamaisondumarais.ch
END:VEVENT
BEGIN:VEVENT
DTSTART;TZID=Europe/Paris:20250612T090000
DTEND;TZID=Europe/Paris:20250612T110000
DTSTAMP:20260425T181829
CREATED:20240314T091635Z
LAST-MODIFIED:20250606T124627Z
UID:10002366-1749718800-1749726000@www.lamaisondumarais.ch
SUMMARY:Pause Café
DESCRIPTION:Envie de rencontrer des habitants de votre quartier ? D’échanger une discussion autour d’un bon café croissant ? \nVenez comme vous êtes\, les bénévoles de la Maison du Marais vous accueillent avec grand plaisir!
URL:https://www.lamaisondumarais.ch/event/pause-cafe-2-2-2/2025-06-12/
LOCATION:La Maison du Marais\, Chemin de Vers 36 Plan-les-Ouates\, Genève\, 1228\, Suisse
CATEGORIES:CONVIVIALITÉ
ATTACH;FMTTYPE=image/jpeg:https://www.lamaisondumarais.ch/wp-content/uploads/2023/08/pause-cafe.jpg
ORGANIZER;CN="La Maison du Marais":MAILTO:info@lamaisondumarais.ch
END:VEVENT
BEGIN:VEVENT
DTSTART;TZID=Europe/Paris:20250611T090000
DTEND;TZID=Europe/Paris:20250611T110000
DTSTAMP:20260425T181829
CREATED:20240314T091635Z
LAST-MODIFIED:20250606T124627Z
UID:10003558-1749632400-1749639600@www.lamaisondumarais.ch
SUMMARY:Pause Café
DESCRIPTION:Envie de rencontrer des habitants de votre quartier ? D’échanger une discussion autour d’un bon café croissant ? \nVenez comme vous êtes\, les bénévoles de la Maison du Marais vous accueillent avec grand plaisir!
URL:https://www.lamaisondumarais.ch/event/pause-cafe-2-2-2/2025-06-11/
LOCATION:La Maison du Marais\, Chemin de Vers 36 Plan-les-Ouates\, Genève\, 1228\, Suisse
CATEGORIES:CONVIVIALITÉ
ATTACH;FMTTYPE=image/jpeg:https://www.lamaisondumarais.ch/wp-content/uploads/2023/08/pause-cafe.jpg
ORGANIZER;CN="La Maison du Marais":MAILTO:info@lamaisondumarais.ch
END:VEVENT
BEGIN:VEVENT
DTSTART;TZID=Europe/Paris:20250611T080000
DTEND;TZID=Europe/Paris:20250611T113000
DTSTAMP:20260425T181829
CREATED:20250328T123226Z
LAST-MODIFIED:20250328T123226Z
UID:10003497-1749628800-1749641400@www.lamaisondumarais.ch
SUMMARY:Tasse et Papote
DESCRIPTION:Besoin d’un moment de récupération? \nD’un moment de papotages? \nD’un lieu convivial et accueillant pour les enfants et les adultes? \nLa pétillante Jessica vous accueille!
URL:https://www.lamaisondumarais.ch/event/tasse-et-papote/2025-06-11/
LOCATION:La Maison du Marais\, Chemin de Vers 36 Plan-les-Ouates\, Genève\, 1228\, Suisse
CATEGORIES:INTERGENERATIONNEL
ATTACH;FMTTYPE=image/png:https://www.lamaisondumarais.ch/wp-content/uploads/2025/03/Tasse-et-Papote.png
ORGANIZER;CN="La Maison du Marais":MAILTO:info@lamaisondumarais.ch
END:VEVENT
BEGIN:VEVENT
DTSTART;TZID=Europe/Paris:20250610T180000
DTEND;TZID=Europe/Paris:20250610T190000
DTSTAMP:20260425T181829
CREATED:20250131T113439Z
LAST-MODIFIED:20250606T125710Z
UID:10003274-1749578400-1749582000@www.lamaisondumarais.ch
SUMMARY:Hatha Yoga
DESCRIPTION:Lina vous propose un cours de Hatha Yoga. \nCette pratique se concentre sur les postures (asanas) et la respiration (pranayama)\, afin de favoriser la préparation à la méditation. Le Hatha est une forme de yoga doux car les postures y sont tenues longtemps\, plusieurs respirations\, ce qui le distingue des yogas dynamiques dont fait partie le Vinyasa. \nPrix: CHF 10.- le cours\, à régler directement auprès de Lina – 076 528 78 79
URL:https://www.lamaisondumarais.ch/event/hatha-yoga-3/2025-06-10/
LOCATION:La Maison du Marais\, Chemin de Vers 36 Plan-les-Ouates\, Genève\, 1228\, Suisse
CATEGORIES:SPORT
ATTACH;FMTTYPE=image/jpeg:https://www.lamaisondumarais.ch/wp-content/uploads/2024/01/hatha-yoga.jpg
ORGANIZER;CN="La Maison du Marais":MAILTO:info@lamaisondumarais.ch
END:VEVENT
BEGIN:VEVENT
DTSTART;TZID=Europe/Paris:20250610T090000
DTEND;TZID=Europe/Paris:20250610T110000
DTSTAMP:20260425T181829
CREATED:20241028T130204Z
LAST-MODIFIED:20250606T125810Z
UID:10002481-1749546000-1749553200@www.lamaisondumarais.ch
SUMMARY:Tricot avec Brigitte
DESCRIPTION:Brigitte vous propose de vous faire découvrir le tricot ou bien de composer ensemble de jolies pièces. \n 
URL:https://www.lamaisondumarais.ch/event/tricot-avec-brigitte-2-2-2/2025-06-10/
LOCATION:La Maison du Marais\, Chemin de Vers 36 Plan-les-Ouates\, Genève\, 1228\, Suisse
CATEGORIES:LOISIRS
ATTACH;FMTTYPE=image/webp:https://www.lamaisondumarais.ch/wp-content/uploads/2023/08/tricot.webp
ORGANIZER;CN="La Maison du Marais":MAILTO:info@lamaisondumarais.ch
END:VEVENT
BEGIN:VEVENT
DTSTART;TZID=Europe/Paris:20250610T090000
DTEND;TZID=Europe/Paris:20250610T110000
DTSTAMP:20260425T181829
CREATED:20240314T091635Z
LAST-MODIFIED:20250606T124627Z
UID:10002364-1749546000-1749553200@www.lamaisondumarais.ch
SUMMARY:Pause Café
DESCRIPTION:Envie de rencontrer des habitants de votre quartier ? D’échanger une discussion autour d’un bon café croissant ? \nVenez comme vous êtes\, les bénévoles de la Maison du Marais vous accueillent avec grand plaisir!
URL:https://www.lamaisondumarais.ch/event/pause-cafe-2-2-2/2025-06-10/
LOCATION:La Maison du Marais\, Chemin de Vers 36 Plan-les-Ouates\, Genève\, 1228\, Suisse
CATEGORIES:CONVIVIALITÉ
ATTACH;FMTTYPE=image/jpeg:https://www.lamaisondumarais.ch/wp-content/uploads/2023/08/pause-cafe.jpg
ORGANIZER;CN="La Maison du Marais":MAILTO:info@lamaisondumarais.ch
END:VEVENT
BEGIN:VEVENT
DTSTART;TZID=Europe/Paris:20250609T194500
DTEND;TZID=Europe/Paris:20250609T210000
DTSTAMP:20260425T181829
CREATED:20230818T192113Z
LAST-MODIFIED:20250606T130000Z
UID:10003503-1749498300-1749502800@www.lamaisondumarais.ch
SUMMARY:Échecs et mat
DESCRIPTION:Que vous soyez novice ou expérimenté\, vous êtes les bienvenus pour apprendre ou jouer aux échecs avec une équipe de passionnés. \nLes entraînements ont lieu les lundis de 19h45 à 21h00 ou 22h00\, selon le nombre de participants.\nDès 12 ans\, gratuit. \nContact: Michel\, 076 317 81 28
URL:https://www.lamaisondumarais.ch/event/echecs/2025-06-09/
LOCATION:La Maison du Marais\, Chemin de Vers 36 Plan-les-Ouates\, Genève\, 1228\, Suisse
CATEGORIES:LOISIRS
ATTACH;FMTTYPE=image/jpeg:https://www.lamaisondumarais.ch/wp-content/uploads/2023/08/jeu-echecs.jpg
ORGANIZER;CN="La Maison du Marais":MAILTO:info@lamaisondumarais.ch
END:VEVENT
BEGIN:VEVENT
DTSTART;TZID=Europe/Paris:20250609T090000
DTEND;TZID=Europe/Paris:20250609T110000
DTSTAMP:20260425T181829
CREATED:20240314T091635Z
LAST-MODIFIED:20250606T124627Z
UID:10002363-1749459600-1749466800@www.lamaisondumarais.ch
SUMMARY:Pause Café
DESCRIPTION:Envie de rencontrer des habitants de votre quartier ? D’échanger une discussion autour d’un bon café croissant ? \nVenez comme vous êtes\, les bénévoles de la Maison du Marais vous accueillent avec grand plaisir!
URL:https://www.lamaisondumarais.ch/event/pause-cafe-2-2-2/2025-06-09/
LOCATION:La Maison du Marais\, Chemin de Vers 36 Plan-les-Ouates\, Genève\, 1228\, Suisse
CATEGORIES:CONVIVIALITÉ
ATTACH;FMTTYPE=image/jpeg:https://www.lamaisondumarais.ch/wp-content/uploads/2023/08/pause-cafe.jpg
ORGANIZER;CN="La Maison du Marais":MAILTO:info@lamaisondumarais.ch
END:VEVENT
BEGIN:VEVENT
DTSTART;TZID=Europe/Paris:20250609T090000
DTEND;TZID=Europe/Paris:20250609T103000
DTSTAMP:20260425T181829
CREATED:20241125T144438Z
LAST-MODIFIED:20250512T132351Z
UID:10002840-1749459600-1749465000@www.lamaisondumarais.ch
SUMMARY:Marche nordique
DESCRIPTION:Julie vous guide sur les chemins pédestres aux alentours de Plan-les-Ouates\, et parfois plus loin\, pour partager ensemble les bienfaits de la marche nordique ALFA en toute convivialité et bienveillance. \nPrix: CHF 10.-/séance donc CHF 70.- la série de 7 séances. À régler directement auprès de Julie \nContact: julievouslit@gmail.com / 076 426 12 40 \n  \nJulie est instructrice de marche nordique\, certifiée par SPAS-S\, membre de esa – Sport des adultes Suisse. Depuis 2023\, elle enseigne la marche nordique en cours collectifs ou cours privés. Prochain cours d’initiation au printemps 2025.
URL:https://www.lamaisondumarais.ch/event/marche-nordique-groupe/2025-06-09/
LOCATION:La Maison du Marais\, Chemin de Vers 36 Plan-les-Ouates\, Genève\, 1228\, Suisse
CATEGORIES:SPORT
ATTACH;FMTTYPE=image/jpeg:https://www.lamaisondumarais.ch/wp-content/uploads/2024/05/marche-nordique.jpg
ORGANIZER;CN="La Maison du Marais":MAILTO:info@lamaisondumarais.ch
END:VEVENT
BEGIN:VEVENT
DTSTART;TZID=Europe/Paris:20250606T103000
DTEND;TZID=Europe/Paris:20250606T120000
DTSTAMP:20260425T181829
CREATED:20230818T191201Z
LAST-MODIFIED:20250606T124947Z
UID:10002424-1749205800-1749211200@www.lamaisondumarais.ch
SUMMARY:Apéro canadien
DESCRIPTION:Venez partager un apéritif convivial\, où chacun est invité à apporter un petit quelque chose à partager. \nDe 0 à 99 ans
URL:https://www.lamaisondumarais.ch/event/apero-canadien/2025-06-06/
LOCATION:La Maison du Marais\, Chemin de Vers 36 Plan-les-Ouates\, Genève\, 1228\, Suisse
CATEGORIES:CONVIVIALITÉ
ATTACH;FMTTYPE=image/jpeg:https://www.lamaisondumarais.ch/wp-content/uploads/2023/08/apero-canadien.jpg
ORGANIZER;CN="La Maison du Marais":MAILTO:info@lamaisondumarais.ch
END:VEVENT
BEGIN:VEVENT
DTSTART;TZID=Europe/Paris:20250605T090000
DTEND;TZID=Europe/Paris:20250605T110000
DTSTAMP:20260425T181829
CREATED:20240314T091635Z
LAST-MODIFIED:20250606T124627Z
UID:10002362-1749114000-1749121200@www.lamaisondumarais.ch
SUMMARY:Pause Café
DESCRIPTION:Envie de rencontrer des habitants de votre quartier ? D’échanger une discussion autour d’un bon café croissant ? \nVenez comme vous êtes\, les bénévoles de la Maison du Marais vous accueillent avec grand plaisir!
URL:https://www.lamaisondumarais.ch/event/pause-cafe-2-2-2/2025-06-05/
LOCATION:La Maison du Marais\, Chemin de Vers 36 Plan-les-Ouates\, Genève\, 1228\, Suisse
CATEGORIES:CONVIVIALITÉ
ATTACH;FMTTYPE=image/jpeg:https://www.lamaisondumarais.ch/wp-content/uploads/2023/08/pause-cafe.jpg
ORGANIZER;CN="La Maison du Marais":MAILTO:info@lamaisondumarais.ch
END:VEVENT
BEGIN:VEVENT
DTSTART;TZID=Europe/Paris:20250604T090000
DTEND;TZID=Europe/Paris:20250604T110000
DTSTAMP:20260425T181829
CREATED:20241126T211053Z
LAST-MODIFIED:20241126T211324Z
UID:10002815-1749027600-1749034800@www.lamaisondumarais.ch
SUMMARY:Atelier créatif
DESCRIPTION:Gaëlle et Jessica proposent un atelier ludique et coloré spécialement conçu pour les enfants de 4 à 8 ans\, sans accompagnants. \nEncadrés par des animatrices passionnées\, les petits artistes découvriront le plaisir de créer avec leurs mains tout en développant leur créativité et leur confiance en eux. \nDe 4 à 8 ans \nDurée : 2 heures \nTarif: 10.- \nSans inscription \nMatériel fourni
URL:https://www.lamaisondumarais.ch/event/atelier-creatif/2025-06-04/
LOCATION:La Maison du Marais\, Chemin de Vers 36 Plan-les-Ouates\, Genève\, 1228\, Suisse
CATEGORIES:ENFANTS
ATTACH;FMTTYPE=image/png:https://www.lamaisondumarais.ch/wp-content/uploads/2024/11/atelier-creatif.png
ORGANIZER;CN="La Maison du Marais":MAILTO:info@lamaisondumarais.ch
END:VEVENT
BEGIN:VEVENT
DTSTART;TZID=Europe/Paris:20250604T080000
DTEND;TZID=Europe/Paris:20250604T113000
DTSTAMP:20260425T181829
CREATED:20250328T123226Z
LAST-MODIFIED:20250328T123226Z
UID:10003496-1749024000-1749036600@www.lamaisondumarais.ch
SUMMARY:Tasse et Papote
DESCRIPTION:Besoin d’un moment de récupération? \nD’un moment de papotages? \nD’un lieu convivial et accueillant pour les enfants et les adultes? \nLa pétillante Jessica vous accueille!
URL:https://www.lamaisondumarais.ch/event/tasse-et-papote/2025-06-04/
LOCATION:La Maison du Marais\, Chemin de Vers 36 Plan-les-Ouates\, Genève\, 1228\, Suisse
CATEGORIES:INTERGENERATIONNEL
ATTACH;FMTTYPE=image/png:https://www.lamaisondumarais.ch/wp-content/uploads/2025/03/Tasse-et-Papote.png
ORGANIZER;CN="La Maison du Marais":MAILTO:info@lamaisondumarais.ch
END:VEVENT
BEGIN:VEVENT
DTSTART;TZID=Europe/Paris:20250603T180000
DTEND;TZID=Europe/Paris:20250603T190000
DTSTAMP:20260425T181829
CREATED:20250131T113439Z
LAST-MODIFIED:20250606T125710Z
UID:10003273-1748973600-1748977200@www.lamaisondumarais.ch
SUMMARY:Hatha Yoga
DESCRIPTION:Lina vous propose un cours de Hatha Yoga. \nCette pratique se concentre sur les postures (asanas) et la respiration (pranayama)\, afin de favoriser la préparation à la méditation. Le Hatha est une forme de yoga doux car les postures y sont tenues longtemps\, plusieurs respirations\, ce qui le distingue des yogas dynamiques dont fait partie le Vinyasa. \nPrix: CHF 10.- le cours\, à régler directement auprès de Lina – 076 528 78 79
URL:https://www.lamaisondumarais.ch/event/hatha-yoga-3/2025-06-03/
LOCATION:La Maison du Marais\, Chemin de Vers 36 Plan-les-Ouates\, Genève\, 1228\, Suisse
CATEGORIES:SPORT
ATTACH;FMTTYPE=image/jpeg:https://www.lamaisondumarais.ch/wp-content/uploads/2024/01/hatha-yoga.jpg
ORGANIZER;CN="La Maison du Marais":MAILTO:info@lamaisondumarais.ch
END:VEVENT
BEGIN:VEVENT
DTSTART;TZID=Europe/Paris:20250603T090000
DTEND;TZID=Europe/Paris:20250603T110000
DTSTAMP:20260425T181829
CREATED:20241028T130204Z
LAST-MODIFIED:20250606T125810Z
UID:10002480-1748941200-1748948400@www.lamaisondumarais.ch
SUMMARY:Tricot avec Brigitte
DESCRIPTION:Brigitte vous propose de vous faire découvrir le tricot ou bien de composer ensemble de jolies pièces. \n 
URL:https://www.lamaisondumarais.ch/event/tricot-avec-brigitte-2-2-2/2025-06-03/
LOCATION:La Maison du Marais\, Chemin de Vers 36 Plan-les-Ouates\, Genève\, 1228\, Suisse
CATEGORIES:LOISIRS
ATTACH;FMTTYPE=image/webp:https://www.lamaisondumarais.ch/wp-content/uploads/2023/08/tricot.webp
ORGANIZER;CN="La Maison du Marais":MAILTO:info@lamaisondumarais.ch
END:VEVENT
BEGIN:VEVENT
DTSTART;TZID=Europe/Paris:20250603T090000
DTEND;TZID=Europe/Paris:20250603T110000
DTSTAMP:20260425T181829
CREATED:20240314T091635Z
LAST-MODIFIED:20250606T124627Z
UID:10002360-1748941200-1748948400@www.lamaisondumarais.ch
SUMMARY:Pause Café
DESCRIPTION:Envie de rencontrer des habitants de votre quartier ? D’échanger une discussion autour d’un bon café croissant ? \nVenez comme vous êtes\, les bénévoles de la Maison du Marais vous accueillent avec grand plaisir!
URL:https://www.lamaisondumarais.ch/event/pause-cafe-2-2-2/2025-06-03/
LOCATION:La Maison du Marais\, Chemin de Vers 36 Plan-les-Ouates\, Genève\, 1228\, Suisse
CATEGORIES:CONVIVIALITÉ
ATTACH;FMTTYPE=image/jpeg:https://www.lamaisondumarais.ch/wp-content/uploads/2023/08/pause-cafe.jpg
ORGANIZER;CN="La Maison du Marais":MAILTO:info@lamaisondumarais.ch
END:VEVENT
BEGIN:VEVENT
DTSTART;TZID=Europe/Paris:20250602T194500
DTEND;TZID=Europe/Paris:20250602T210000
DTSTAMP:20260425T181829
CREATED:20230818T192113Z
LAST-MODIFIED:20250606T130000Z
UID:10003502-1748893500-1748898000@www.lamaisondumarais.ch
SUMMARY:Échecs et mat
DESCRIPTION:Que vous soyez novice ou expérimenté\, vous êtes les bienvenus pour apprendre ou jouer aux échecs avec une équipe de passionnés. \nLes entraînements ont lieu les lundis de 19h45 à 21h00 ou 22h00\, selon le nombre de participants.\nDès 12 ans\, gratuit. \nContact: Michel\, 076 317 81 28
URL:https://www.lamaisondumarais.ch/event/echecs/2025-06-02/
LOCATION:La Maison du Marais\, Chemin de Vers 36 Plan-les-Ouates\, Genève\, 1228\, Suisse
CATEGORIES:LOISIRS
ATTACH;FMTTYPE=image/jpeg:https://www.lamaisondumarais.ch/wp-content/uploads/2023/08/jeu-echecs.jpg
ORGANIZER;CN="La Maison du Marais":MAILTO:info@lamaisondumarais.ch
END:VEVENT
BEGIN:VEVENT
DTSTART;TZID=Europe/Paris:20250602T090000
DTEND;TZID=Europe/Paris:20250602T110000
DTSTAMP:20260425T181829
CREATED:20240314T091635Z
LAST-MODIFIED:20250606T124627Z
UID:10002359-1748854800-1748862000@www.lamaisondumarais.ch
SUMMARY:Pause Café
DESCRIPTION:Envie de rencontrer des habitants de votre quartier ? D’échanger une discussion autour d’un bon café croissant ? \nVenez comme vous êtes\, les bénévoles de la Maison du Marais vous accueillent avec grand plaisir!
URL:https://www.lamaisondumarais.ch/event/pause-cafe-2-2-2/2025-06-02/
LOCATION:La Maison du Marais\, Chemin de Vers 36 Plan-les-Ouates\, Genève\, 1228\, Suisse
CATEGORIES:CONVIVIALITÉ
ATTACH;FMTTYPE=image/jpeg:https://www.lamaisondumarais.ch/wp-content/uploads/2023/08/pause-cafe.jpg
ORGANIZER;CN="La Maison du Marais":MAILTO:info@lamaisondumarais.ch
END:VEVENT
END:VCALENDAR