BEGIN:VCALENDAR
VERSION:2.0
PRODID:-//La maison du Marais - ECPv6.15.20//NONSGML v1.0//EN
CALSCALE:GREGORIAN
METHOD:PUBLISH
X-ORIGINAL-URL:https://www.lamaisondumarais.ch
X-WR-CALDESC:Évènements pour La maison du Marais
REFRESH-INTERVAL;VALUE=DURATION:PT1H
X-Robots-Tag:noindex
X-PUBLISHED-TTL:PT1H
BEGIN:VTIMEZONE
TZID:Europe/Paris
BEGIN:DAYLIGHT
TZOFFSETFROM:+0100
TZOFFSETTO:+0200
TZNAME:CEST
DTSTART:20240331T010000
END:DAYLIGHT
BEGIN:STANDARD
TZOFFSETFROM:+0200
TZOFFSETTO:+0100
TZNAME:CET
DTSTART:20241027T010000
END:STANDARD
BEGIN:DAYLIGHT
TZOFFSETFROM:+0100
TZOFFSETTO:+0200
TZNAME:CEST
DTSTART:20250330T010000
END:DAYLIGHT
BEGIN:STANDARD
TZOFFSETFROM:+0200
TZOFFSETTO:+0100
TZNAME:CET
DTSTART:20251026T010000
END:STANDARD
BEGIN:DAYLIGHT
TZOFFSETFROM:+0100
TZOFFSETTO:+0200
TZNAME:CEST
DTSTART:20260329T010000
END:DAYLIGHT
BEGIN:STANDARD
TZOFFSETFROM:+0200
TZOFFSETTO:+0100
TZNAME:CET
DTSTART:20261025T010000
END:STANDARD
END:VTIMEZONE
BEGIN:VEVENT
DTSTART;TZID=Europe/Paris:20250718T103000
DTEND;TZID=Europe/Paris:20250718T120000
DTSTAMP:20260425T121930
CREATED:20230818T191201Z
LAST-MODIFIED:20250606T124947Z
UID:10003332-1752834600-1752840000@www.lamaisondumarais.ch
SUMMARY:Apéro canadien
DESCRIPTION:Venez partager un apéritif convivial\, où chacun est invité à apporter un petit quelque chose à partager. \nDe 0 à 99 ans
URL:https://www.lamaisondumarais.ch/event/apero-canadien/2025-07-18/
LOCATION:La Maison du Marais\, Chemin de Vers 36 Plan-les-Ouates\, Genève\, 1228\, Suisse
CATEGORIES:CONVIVIALITÉ
ATTACH;FMTTYPE=image/jpeg:https://www.lamaisondumarais.ch/wp-content/uploads/2023/08/apero-canadien.jpg
ORGANIZER;CN="La Maison du Marais":MAILTO:info@lamaisondumarais.ch
END:VEVENT
BEGIN:VEVENT
DTSTART;TZID=Europe/Paris:20250717T090000
DTEND;TZID=Europe/Paris:20250717T110000
DTSTAMP:20260425T121930
CREATED:20240314T091635Z
LAST-MODIFIED:20250606T124627Z
UID:10002952-1752742800-1752750000@www.lamaisondumarais.ch
SUMMARY:Pause Café
DESCRIPTION:Envie de rencontrer des habitants de votre quartier ? D’échanger une discussion autour d’un bon café croissant ? \nVenez comme vous êtes\, les bénévoles de la Maison du Marais vous accueillent avec grand plaisir!
URL:https://www.lamaisondumarais.ch/event/pause-cafe-2-2-2/2025-07-17/
LOCATION:La Maison du Marais\, Chemin de Vers 36 Plan-les-Ouates\, Genève\, 1228\, Suisse
CATEGORIES:CONVIVIALITÉ
ATTACH;FMTTYPE=image/jpeg:https://www.lamaisondumarais.ch/wp-content/uploads/2023/08/pause-cafe.jpg
ORGANIZER;CN="La Maison du Marais":MAILTO:info@lamaisondumarais.ch
END:VEVENT
BEGIN:VEVENT
DTSTART;TZID=Europe/Paris:20250716T090000
DTEND;TZID=Europe/Paris:20250716T110000
DTSTAMP:20260425T121930
CREATED:20240314T091635Z
LAST-MODIFIED:20250606T124627Z
UID:10002951-1752656400-1752663600@www.lamaisondumarais.ch
SUMMARY:Pause Café
DESCRIPTION:Envie de rencontrer des habitants de votre quartier ? D’échanger une discussion autour d’un bon café croissant ? \nVenez comme vous êtes\, les bénévoles de la Maison du Marais vous accueillent avec grand plaisir!
URL:https://www.lamaisondumarais.ch/event/pause-cafe-2-2-2/2025-07-16/
LOCATION:La Maison du Marais\, Chemin de Vers 36 Plan-les-Ouates\, Genève\, 1228\, Suisse
CATEGORIES:CONVIVIALITÉ
ATTACH;FMTTYPE=image/jpeg:https://www.lamaisondumarais.ch/wp-content/uploads/2023/08/pause-cafe.jpg
ORGANIZER;CN="La Maison du Marais":MAILTO:info@lamaisondumarais.ch
END:VEVENT
BEGIN:VEVENT
DTSTART;TZID=Europe/Paris:20250715T180000
DTEND;TZID=Europe/Paris:20250715T190000
DTSTAMP:20260425T121930
CREATED:20250131T113439Z
LAST-MODIFIED:20250606T125710Z
UID:10003279-1752602400-1752606000@www.lamaisondumarais.ch
SUMMARY:Hatha Yoga
DESCRIPTION:Lina vous propose un cours de Hatha Yoga. \nCette pratique se concentre sur les postures (asanas) et la respiration (pranayama)\, afin de favoriser la préparation à la méditation. Le Hatha est une forme de yoga doux car les postures y sont tenues longtemps\, plusieurs respirations\, ce qui le distingue des yogas dynamiques dont fait partie le Vinyasa. \nPrix: CHF 10.- le cours\, à régler directement auprès de Lina – 076 528 78 79
URL:https://www.lamaisondumarais.ch/event/hatha-yoga-3/2025-07-15/
LOCATION:La Maison du Marais\, Chemin de Vers 36 Plan-les-Ouates\, Genève\, 1228\, Suisse
CATEGORIES:SPORT
ATTACH;FMTTYPE=image/jpeg:https://www.lamaisondumarais.ch/wp-content/uploads/2024/01/hatha-yoga.jpg
ORGANIZER;CN="La Maison du Marais":MAILTO:info@lamaisondumarais.ch
END:VEVENT
BEGIN:VEVENT
DTSTART;TZID=Europe/Paris:20250715T090000
DTEND;TZID=Europe/Paris:20250715T110000
DTSTAMP:20260425T121930
CREATED:20241028T130204Z
LAST-MODIFIED:20250606T125810Z
UID:10002878-1752570000-1752577200@www.lamaisondumarais.ch
SUMMARY:Tricot avec Brigitte
DESCRIPTION:Brigitte vous propose de vous faire découvrir le tricot ou bien de composer ensemble de jolies pièces. \n 
URL:https://www.lamaisondumarais.ch/event/tricot-avec-brigitte-2-2-2/2025-07-15/
LOCATION:La Maison du Marais\, Chemin de Vers 36 Plan-les-Ouates\, Genève\, 1228\, Suisse
CATEGORIES:LOISIRS
ATTACH;FMTTYPE=image/webp:https://www.lamaisondumarais.ch/wp-content/uploads/2023/08/tricot.webp
ORGANIZER;CN="La Maison du Marais":MAILTO:info@lamaisondumarais.ch
END:VEVENT
BEGIN:VEVENT
DTSTART;TZID=Europe/Paris:20250715T090000
DTEND;TZID=Europe/Paris:20250715T110000
DTSTAMP:20260425T121930
CREATED:20240314T091635Z
LAST-MODIFIED:20250606T124627Z
UID:10002950-1752570000-1752577200@www.lamaisondumarais.ch
SUMMARY:Pause Café
DESCRIPTION:Envie de rencontrer des habitants de votre quartier ? D’échanger une discussion autour d’un bon café croissant ? \nVenez comme vous êtes\, les bénévoles de la Maison du Marais vous accueillent avec grand plaisir!
URL:https://www.lamaisondumarais.ch/event/pause-cafe-2-2-2/2025-07-15/
LOCATION:La Maison du Marais\, Chemin de Vers 36 Plan-les-Ouates\, Genève\, 1228\, Suisse
CATEGORIES:CONVIVIALITÉ
ATTACH;FMTTYPE=image/jpeg:https://www.lamaisondumarais.ch/wp-content/uploads/2023/08/pause-cafe.jpg
ORGANIZER;CN="La Maison du Marais":MAILTO:info@lamaisondumarais.ch
END:VEVENT
BEGIN:VEVENT
DTSTART;TZID=Europe/Paris:20250714T194500
DTEND;TZID=Europe/Paris:20250714T210000
DTSTAMP:20260425T121930
CREATED:20230818T192113Z
LAST-MODIFIED:20250606T130000Z
UID:10003507-1752522300-1752526800@www.lamaisondumarais.ch
SUMMARY:Échecs et mat
DESCRIPTION:Que vous soyez novice ou expérimenté\, vous êtes les bienvenus pour apprendre ou jouer aux échecs avec une équipe de passionnés. \nLes entraînements ont lieu les lundis de 19h45 à 21h00 ou 22h00\, selon le nombre de participants.\nDès 12 ans\, gratuit. \nContact: Michel\, 076 317 81 28
URL:https://www.lamaisondumarais.ch/event/echecs/2025-07-14/
LOCATION:La Maison du Marais\, Chemin de Vers 36 Plan-les-Ouates\, Genève\, 1228\, Suisse
CATEGORIES:LOISIRS
ATTACH;FMTTYPE=image/jpeg:https://www.lamaisondumarais.ch/wp-content/uploads/2023/08/jeu-echecs.jpg
ORGANIZER;CN="La Maison du Marais":MAILTO:info@lamaisondumarais.ch
END:VEVENT
BEGIN:VEVENT
DTSTART;TZID=Europe/Paris:20250714T090000
DTEND;TZID=Europe/Paris:20250714T110000
DTSTAMP:20260425T121930
CREATED:20240314T091635Z
LAST-MODIFIED:20250606T124627Z
UID:10002949-1752483600-1752490800@www.lamaisondumarais.ch
SUMMARY:Pause Café
DESCRIPTION:Envie de rencontrer des habitants de votre quartier ? D’échanger une discussion autour d’un bon café croissant ? \nVenez comme vous êtes\, les bénévoles de la Maison du Marais vous accueillent avec grand plaisir!
URL:https://www.lamaisondumarais.ch/event/pause-cafe-2-2-2/2025-07-14/
LOCATION:La Maison du Marais\, Chemin de Vers 36 Plan-les-Ouates\, Genève\, 1228\, Suisse
CATEGORIES:CONVIVIALITÉ
ATTACH;FMTTYPE=image/jpeg:https://www.lamaisondumarais.ch/wp-content/uploads/2023/08/pause-cafe.jpg
ORGANIZER;CN="La Maison du Marais":MAILTO:info@lamaisondumarais.ch
END:VEVENT
BEGIN:VEVENT
DTSTART;TZID=Europe/Paris:20250711T103000
DTEND;TZID=Europe/Paris:20250711T120000
DTSTAMP:20260425T121930
CREATED:20230818T191201Z
LAST-MODIFIED:20250606T124947Z
UID:10003331-1752229800-1752235200@www.lamaisondumarais.ch
SUMMARY:Apéro canadien
DESCRIPTION:Venez partager un apéritif convivial\, où chacun est invité à apporter un petit quelque chose à partager. \nDe 0 à 99 ans
URL:https://www.lamaisondumarais.ch/event/apero-canadien/2025-07-11/
LOCATION:La Maison du Marais\, Chemin de Vers 36 Plan-les-Ouates\, Genève\, 1228\, Suisse
CATEGORIES:CONVIVIALITÉ
ATTACH;FMTTYPE=image/jpeg:https://www.lamaisondumarais.ch/wp-content/uploads/2023/08/apero-canadien.jpg
ORGANIZER;CN="La Maison du Marais":MAILTO:info@lamaisondumarais.ch
END:VEVENT
BEGIN:VEVENT
DTSTART;TZID=Europe/Paris:20250710T090000
DTEND;TZID=Europe/Paris:20250710T110000
DTSTAMP:20260425T121930
CREATED:20240314T091635Z
LAST-MODIFIED:20250606T124627Z
UID:10002948-1752138000-1752145200@www.lamaisondumarais.ch
SUMMARY:Pause Café
DESCRIPTION:Envie de rencontrer des habitants de votre quartier ? D’échanger une discussion autour d’un bon café croissant ? \nVenez comme vous êtes\, les bénévoles de la Maison du Marais vous accueillent avec grand plaisir!
URL:https://www.lamaisondumarais.ch/event/pause-cafe-2-2-2/2025-07-10/
LOCATION:La Maison du Marais\, Chemin de Vers 36 Plan-les-Ouates\, Genève\, 1228\, Suisse
CATEGORIES:CONVIVIALITÉ
ATTACH;FMTTYPE=image/jpeg:https://www.lamaisondumarais.ch/wp-content/uploads/2023/08/pause-cafe.jpg
ORGANIZER;CN="La Maison du Marais":MAILTO:info@lamaisondumarais.ch
END:VEVENT
BEGIN:VEVENT
DTSTART;TZID=Europe/Paris:20250709T090000
DTEND;TZID=Europe/Paris:20250709T110000
DTSTAMP:20260425T121930
CREATED:20240314T091635Z
LAST-MODIFIED:20250606T124627Z
UID:10002947-1752051600-1752058800@www.lamaisondumarais.ch
SUMMARY:Pause Café
DESCRIPTION:Envie de rencontrer des habitants de votre quartier ? D’échanger une discussion autour d’un bon café croissant ? \nVenez comme vous êtes\, les bénévoles de la Maison du Marais vous accueillent avec grand plaisir!
URL:https://www.lamaisondumarais.ch/event/pause-cafe-2-2-2/2025-07-09/
LOCATION:La Maison du Marais\, Chemin de Vers 36 Plan-les-Ouates\, Genève\, 1228\, Suisse
CATEGORIES:CONVIVIALITÉ
ATTACH;FMTTYPE=image/jpeg:https://www.lamaisondumarais.ch/wp-content/uploads/2023/08/pause-cafe.jpg
ORGANIZER;CN="La Maison du Marais":MAILTO:info@lamaisondumarais.ch
END:VEVENT
BEGIN:VEVENT
DTSTART;TZID=Europe/Paris:20250708T180000
DTEND;TZID=Europe/Paris:20250708T190000
DTSTAMP:20260425T121930
CREATED:20250131T113439Z
LAST-MODIFIED:20250606T125710Z
UID:10003278-1751997600-1752001200@www.lamaisondumarais.ch
SUMMARY:Hatha Yoga
DESCRIPTION:Lina vous propose un cours de Hatha Yoga. \nCette pratique se concentre sur les postures (asanas) et la respiration (pranayama)\, afin de favoriser la préparation à la méditation. Le Hatha est une forme de yoga doux car les postures y sont tenues longtemps\, plusieurs respirations\, ce qui le distingue des yogas dynamiques dont fait partie le Vinyasa. \nPrix: CHF 10.- le cours\, à régler directement auprès de Lina – 076 528 78 79
URL:https://www.lamaisondumarais.ch/event/hatha-yoga-3/2025-07-08/
LOCATION:La Maison du Marais\, Chemin de Vers 36 Plan-les-Ouates\, Genève\, 1228\, Suisse
CATEGORIES:SPORT
ATTACH;FMTTYPE=image/jpeg:https://www.lamaisondumarais.ch/wp-content/uploads/2024/01/hatha-yoga.jpg
ORGANIZER;CN="La Maison du Marais":MAILTO:info@lamaisondumarais.ch
END:VEVENT
BEGIN:VEVENT
DTSTART;TZID=Europe/Paris:20250708T090000
DTEND;TZID=Europe/Paris:20250708T110000
DTSTAMP:20260425T121930
CREATED:20241028T130204Z
LAST-MODIFIED:20250606T125810Z
UID:10002877-1751965200-1751972400@www.lamaisondumarais.ch
SUMMARY:Tricot avec Brigitte
DESCRIPTION:Brigitte vous propose de vous faire découvrir le tricot ou bien de composer ensemble de jolies pièces. \n 
URL:https://www.lamaisondumarais.ch/event/tricot-avec-brigitte-2-2-2/2025-07-08/
LOCATION:La Maison du Marais\, Chemin de Vers 36 Plan-les-Ouates\, Genève\, 1228\, Suisse
CATEGORIES:LOISIRS
ATTACH;FMTTYPE=image/webp:https://www.lamaisondumarais.ch/wp-content/uploads/2023/08/tricot.webp
ORGANIZER;CN="La Maison du Marais":MAILTO:info@lamaisondumarais.ch
END:VEVENT
BEGIN:VEVENT
DTSTART;TZID=Europe/Paris:20250708T090000
DTEND;TZID=Europe/Paris:20250708T110000
DTSTAMP:20260425T121930
CREATED:20240314T091635Z
LAST-MODIFIED:20250606T124627Z
UID:10002946-1751965200-1751972400@www.lamaisondumarais.ch
SUMMARY:Pause Café
DESCRIPTION:Envie de rencontrer des habitants de votre quartier ? D’échanger une discussion autour d’un bon café croissant ? \nVenez comme vous êtes\, les bénévoles de la Maison du Marais vous accueillent avec grand plaisir!
URL:https://www.lamaisondumarais.ch/event/pause-cafe-2-2-2/2025-07-08/
LOCATION:La Maison du Marais\, Chemin de Vers 36 Plan-les-Ouates\, Genève\, 1228\, Suisse
CATEGORIES:CONVIVIALITÉ
ATTACH;FMTTYPE=image/jpeg:https://www.lamaisondumarais.ch/wp-content/uploads/2023/08/pause-cafe.jpg
ORGANIZER;CN="La Maison du Marais":MAILTO:info@lamaisondumarais.ch
END:VEVENT
BEGIN:VEVENT
DTSTART;TZID=Europe/Paris:20250707T194500
DTEND;TZID=Europe/Paris:20250707T210000
DTSTAMP:20260425T121930
CREATED:20230818T192113Z
LAST-MODIFIED:20250606T130000Z
UID:10003506-1751917500-1751922000@www.lamaisondumarais.ch
SUMMARY:Échecs et mat
DESCRIPTION:Que vous soyez novice ou expérimenté\, vous êtes les bienvenus pour apprendre ou jouer aux échecs avec une équipe de passionnés. \nLes entraînements ont lieu les lundis de 19h45 à 21h00 ou 22h00\, selon le nombre de participants.\nDès 12 ans\, gratuit. \nContact: Michel\, 076 317 81 28
URL:https://www.lamaisondumarais.ch/event/echecs/2025-07-07/
LOCATION:La Maison du Marais\, Chemin de Vers 36 Plan-les-Ouates\, Genève\, 1228\, Suisse
CATEGORIES:LOISIRS
ATTACH;FMTTYPE=image/jpeg:https://www.lamaisondumarais.ch/wp-content/uploads/2023/08/jeu-echecs.jpg
ORGANIZER;CN="La Maison du Marais":MAILTO:info@lamaisondumarais.ch
END:VEVENT
BEGIN:VEVENT
DTSTART;TZID=Europe/Paris:20250707T090000
DTEND;TZID=Europe/Paris:20250707T110000
DTSTAMP:20260425T121930
CREATED:20240314T091635Z
LAST-MODIFIED:20250606T124627Z
UID:10002945-1751878800-1751886000@www.lamaisondumarais.ch
SUMMARY:Pause Café
DESCRIPTION:Envie de rencontrer des habitants de votre quartier ? D’échanger une discussion autour d’un bon café croissant ? \nVenez comme vous êtes\, les bénévoles de la Maison du Marais vous accueillent avec grand plaisir!
URL:https://www.lamaisondumarais.ch/event/pause-cafe-2-2-2/2025-07-07/
LOCATION:La Maison du Marais\, Chemin de Vers 36 Plan-les-Ouates\, Genève\, 1228\, Suisse
CATEGORIES:CONVIVIALITÉ
ATTACH;FMTTYPE=image/jpeg:https://www.lamaisondumarais.ch/wp-content/uploads/2023/08/pause-cafe.jpg
ORGANIZER;CN="La Maison du Marais":MAILTO:info@lamaisondumarais.ch
END:VEVENT
BEGIN:VEVENT
DTSTART;TZID=Europe/Paris:20250706T100000
DTEND;TZID=Europe/Paris:20250706T110000
DTSTAMP:20260425T121930
CREATED:20240426T082125Z
LAST-MODIFIED:20250606T130209Z
UID:10002929-1751796000-1751799600@www.lamaisondumarais.ch
SUMMARY:Dessinez avec Robert
DESCRIPTION:Robert vous propose une approche artistique par le dessin\, en toute simplicité\, puis à terme la peinture. Toutes les générations sont conviées\, Robert a à cœur de réunir les petits et les grands au travers de cette activité. Aucun prérequis\, la discipline est accessible à tous\, surtout à ceux qui pensent ne pas savoir dessiner! \nDe 2 à 99 ans
URL:https://www.lamaisondumarais.ch/event/dessinez-avec-robert-2/2025-07-06/
LOCATION:La Maison du Marais\, Chemin de Vers 36 Plan-les-Ouates\, Genève\, 1228\, Suisse
CATEGORIES:INTERGENERATIONNEL
ATTACH;FMTTYPE=image/jpeg:https://www.lamaisondumarais.ch/wp-content/uploads/2023/08/dessin-pour-tous.jpg
ORGANIZER;CN="La Maison du Marais":MAILTO:info@lamaisondumarais.ch
END:VEVENT
BEGIN:VEVENT
DTSTART;TZID=Europe/Paris:20250705T120000
DTEND;TZID=Europe/Paris:20250705T140000
DTSTAMP:20260425T121930
CREATED:20250131T111411Z
LAST-MODIFIED:20250131T111411Z
UID:10002875-1751716800-1751724000@www.lamaisondumarais.ch
SUMMARY:Repas paëlla
DESCRIPTION:Le Comité de l’association vous propose de venir partager la traditionnelle paëlla d’Antonio & Christophe! \nPrix: CHF 15.- par personne + les boissons consommées facturées sur place.\nGratuit pour les enfants -10 ans. \nInscription jusqu’au 4 juillet:\n1. Annoncez votre présence au plus tôt sur place à la Maison du Marais ou par email en précisant le nombre de personnes\, le nombre d’enfants et leur âge\n2.Réalisez votre paiement par virement CH49 8080 8005 0931 4873 4  avec l’information « paella + votre nom » \n 
URL:https://www.lamaisondumarais.ch/event/repas-paella-2/
LOCATION:La Maison du Marais\, Chemin de Vers 36 Plan-les-Ouates\, Genève\, 1228\, Suisse
CATEGORIES:CRÉATIVITÉ
ATTACH;FMTTYPE=image/jpeg:https://www.lamaisondumarais.ch/wp-content/uploads/2023/08/IMG_0389.jpg
ORGANIZER;CN="La Maison du Marais":MAILTO:info@lamaisondumarais.ch
END:VEVENT
BEGIN:VEVENT
DTSTART;TZID=Europe/Paris:20250704T103000
DTEND;TZID=Europe/Paris:20250704T120000
DTSTAMP:20260425T121930
CREATED:20230818T191201Z
LAST-MODIFIED:20250606T124947Z
UID:10003330-1751625000-1751630400@www.lamaisondumarais.ch
SUMMARY:Apéro canadien
DESCRIPTION:Venez partager un apéritif convivial\, où chacun est invité à apporter un petit quelque chose à partager. \nDe 0 à 99 ans
URL:https://www.lamaisondumarais.ch/event/apero-canadien/2025-07-04/
LOCATION:La Maison du Marais\, Chemin de Vers 36 Plan-les-Ouates\, Genève\, 1228\, Suisse
CATEGORIES:CONVIVIALITÉ
ATTACH;FMTTYPE=image/jpeg:https://www.lamaisondumarais.ch/wp-content/uploads/2023/08/apero-canadien.jpg
ORGANIZER;CN="La Maison du Marais":MAILTO:info@lamaisondumarais.ch
END:VEVENT
BEGIN:VEVENT
DTSTART;TZID=Europe/Paris:20250703T090000
DTEND;TZID=Europe/Paris:20250703T110000
DTSTAMP:20260425T121930
CREATED:20240314T091635Z
LAST-MODIFIED:20250606T124627Z
UID:10002944-1751533200-1751540400@www.lamaisondumarais.ch
SUMMARY:Pause Café
DESCRIPTION:Envie de rencontrer des habitants de votre quartier ? D’échanger une discussion autour d’un bon café croissant ? \nVenez comme vous êtes\, les bénévoles de la Maison du Marais vous accueillent avec grand plaisir!
URL:https://www.lamaisondumarais.ch/event/pause-cafe-2-2-2/2025-07-03/
LOCATION:La Maison du Marais\, Chemin de Vers 36 Plan-les-Ouates\, Genève\, 1228\, Suisse
CATEGORIES:CONVIVIALITÉ
ATTACH;FMTTYPE=image/jpeg:https://www.lamaisondumarais.ch/wp-content/uploads/2023/08/pause-cafe.jpg
ORGANIZER;CN="La Maison du Marais":MAILTO:info@lamaisondumarais.ch
END:VEVENT
BEGIN:VEVENT
DTSTART;TZID=Europe/Paris:20250702T090000
DTEND;TZID=Europe/Paris:20250702T110000
DTSTAMP:20260425T121930
CREATED:20240314T091635Z
LAST-MODIFIED:20250606T124627Z
UID:10002943-1751446800-1751454000@www.lamaisondumarais.ch
SUMMARY:Pause Café
DESCRIPTION:Envie de rencontrer des habitants de votre quartier ? D’échanger une discussion autour d’un bon café croissant ? \nVenez comme vous êtes\, les bénévoles de la Maison du Marais vous accueillent avec grand plaisir!
URL:https://www.lamaisondumarais.ch/event/pause-cafe-2-2-2/2025-07-02/
LOCATION:La Maison du Marais\, Chemin de Vers 36 Plan-les-Ouates\, Genève\, 1228\, Suisse
CATEGORIES:CONVIVIALITÉ
ATTACH;FMTTYPE=image/jpeg:https://www.lamaisondumarais.ch/wp-content/uploads/2023/08/pause-cafe.jpg
ORGANIZER;CN="La Maison du Marais":MAILTO:info@lamaisondumarais.ch
END:VEVENT
BEGIN:VEVENT
DTSTART;TZID=Europe/Paris:20250701T180000
DTEND;TZID=Europe/Paris:20250701T190000
DTSTAMP:20260425T121930
CREATED:20250131T113439Z
LAST-MODIFIED:20250606T125710Z
UID:10003277-1751392800-1751396400@www.lamaisondumarais.ch
SUMMARY:Hatha Yoga
DESCRIPTION:Lina vous propose un cours de Hatha Yoga. \nCette pratique se concentre sur les postures (asanas) et la respiration (pranayama)\, afin de favoriser la préparation à la méditation. Le Hatha est une forme de yoga doux car les postures y sont tenues longtemps\, plusieurs respirations\, ce qui le distingue des yogas dynamiques dont fait partie le Vinyasa. \nPrix: CHF 10.- le cours\, à régler directement auprès de Lina – 076 528 78 79
URL:https://www.lamaisondumarais.ch/event/hatha-yoga-3/2025-07-01/
LOCATION:La Maison du Marais\, Chemin de Vers 36 Plan-les-Ouates\, Genève\, 1228\, Suisse
CATEGORIES:SPORT
ATTACH;FMTTYPE=image/jpeg:https://www.lamaisondumarais.ch/wp-content/uploads/2024/01/hatha-yoga.jpg
ORGANIZER;CN="La Maison du Marais":MAILTO:info@lamaisondumarais.ch
END:VEVENT
BEGIN:VEVENT
DTSTART;TZID=Europe/Paris:20250701T090000
DTEND;TZID=Europe/Paris:20250701T110000
DTSTAMP:20260425T121930
CREATED:20241028T130204Z
LAST-MODIFIED:20250606T125810Z
UID:10002876-1751360400-1751367600@www.lamaisondumarais.ch
SUMMARY:Tricot avec Brigitte
DESCRIPTION:Brigitte vous propose de vous faire découvrir le tricot ou bien de composer ensemble de jolies pièces. \n 
URL:https://www.lamaisondumarais.ch/event/tricot-avec-brigitte-2-2-2/2025-07-01/
LOCATION:La Maison du Marais\, Chemin de Vers 36 Plan-les-Ouates\, Genève\, 1228\, Suisse
CATEGORIES:LOISIRS
ATTACH;FMTTYPE=image/webp:https://www.lamaisondumarais.ch/wp-content/uploads/2023/08/tricot.webp
ORGANIZER;CN="La Maison du Marais":MAILTO:info@lamaisondumarais.ch
END:VEVENT
BEGIN:VEVENT
DTSTART;TZID=Europe/Paris:20250701T090000
DTEND;TZID=Europe/Paris:20250701T110000
DTSTAMP:20260425T121930
CREATED:20240314T091635Z
LAST-MODIFIED:20250606T124627Z
UID:10002942-1751360400-1751367600@www.lamaisondumarais.ch
SUMMARY:Pause Café
DESCRIPTION:Envie de rencontrer des habitants de votre quartier ? D’échanger une discussion autour d’un bon café croissant ? \nVenez comme vous êtes\, les bénévoles de la Maison du Marais vous accueillent avec grand plaisir!
URL:https://www.lamaisondumarais.ch/event/pause-cafe-2-2-2/2025-07-01/
LOCATION:La Maison du Marais\, Chemin de Vers 36 Plan-les-Ouates\, Genève\, 1228\, Suisse
CATEGORIES:CONVIVIALITÉ
ATTACH;FMTTYPE=image/jpeg:https://www.lamaisondumarais.ch/wp-content/uploads/2023/08/pause-cafe.jpg
ORGANIZER;CN="La Maison du Marais":MAILTO:info@lamaisondumarais.ch
END:VEVENT
BEGIN:VEVENT
DTSTART;TZID=Europe/Paris:20250630T194500
DTEND;TZID=Europe/Paris:20250630T210000
DTSTAMP:20260425T121930
CREATED:20230818T192113Z
LAST-MODIFIED:20250606T130000Z
UID:10003505-1751312700-1751317200@www.lamaisondumarais.ch
SUMMARY:Échecs et mat
DESCRIPTION:Que vous soyez novice ou expérimenté\, vous êtes les bienvenus pour apprendre ou jouer aux échecs avec une équipe de passionnés. \nLes entraînements ont lieu les lundis de 19h45 à 21h00 ou 22h00\, selon le nombre de participants.\nDès 12 ans\, gratuit. \nContact: Michel\, 076 317 81 28
URL:https://www.lamaisondumarais.ch/event/echecs/2025-06-30/
LOCATION:La Maison du Marais\, Chemin de Vers 36 Plan-les-Ouates\, Genève\, 1228\, Suisse
CATEGORIES:LOISIRS
ATTACH;FMTTYPE=image/jpeg:https://www.lamaisondumarais.ch/wp-content/uploads/2023/08/jeu-echecs.jpg
ORGANIZER;CN="La Maison du Marais":MAILTO:info@lamaisondumarais.ch
END:VEVENT
BEGIN:VEVENT
DTSTART;TZID=Europe/Paris:20250630T090000
DTEND;TZID=Europe/Paris:20250630T110000
DTSTAMP:20260425T121930
CREATED:20240314T091635Z
LAST-MODIFIED:20250606T124627Z
UID:10002375-1751274000-1751281200@www.lamaisondumarais.ch
SUMMARY:Pause Café
DESCRIPTION:Envie de rencontrer des habitants de votre quartier ? D’échanger une discussion autour d’un bon café croissant ? \nVenez comme vous êtes\, les bénévoles de la Maison du Marais vous accueillent avec grand plaisir!
URL:https://www.lamaisondumarais.ch/event/pause-cafe-2-2-2/2025-06-30/
LOCATION:La Maison du Marais\, Chemin de Vers 36 Plan-les-Ouates\, Genève\, 1228\, Suisse
CATEGORIES:CONVIVIALITÉ
ATTACH;FMTTYPE=image/jpeg:https://www.lamaisondumarais.ch/wp-content/uploads/2023/08/pause-cafe.jpg
ORGANIZER;CN="La Maison du Marais":MAILTO:info@lamaisondumarais.ch
END:VEVENT
BEGIN:VEVENT
DTSTART;TZID=Europe/Paris:20250630T090000
DTEND;TZID=Europe/Paris:20250630T103000
DTSTAMP:20260425T121930
CREATED:20241125T144438Z
LAST-MODIFIED:20250512T132351Z
UID:10002843-1751274000-1751279400@www.lamaisondumarais.ch
SUMMARY:Marche nordique
DESCRIPTION:Julie vous guide sur les chemins pédestres aux alentours de Plan-les-Ouates\, et parfois plus loin\, pour partager ensemble les bienfaits de la marche nordique ALFA en toute convivialité et bienveillance. \nPrix: CHF 10.-/séance donc CHF 70.- la série de 7 séances. À régler directement auprès de Julie \nContact: julievouslit@gmail.com / 076 426 12 40 \n  \nJulie est instructrice de marche nordique\, certifiée par SPAS-S\, membre de esa – Sport des adultes Suisse. Depuis 2023\, elle enseigne la marche nordique en cours collectifs ou cours privés. Prochain cours d’initiation au printemps 2025.
URL:https://www.lamaisondumarais.ch/event/marche-nordique-groupe/2025-06-30/
LOCATION:La Maison du Marais\, Chemin de Vers 36 Plan-les-Ouates\, Genève\, 1228\, Suisse
CATEGORIES:SPORT
ATTACH;FMTTYPE=image/jpeg:https://www.lamaisondumarais.ch/wp-content/uploads/2024/05/marche-nordique.jpg
ORGANIZER;CN="La Maison du Marais":MAILTO:info@lamaisondumarais.ch
END:VEVENT
BEGIN:VEVENT
DTSTART;TZID=Europe/Paris:20250627T103000
DTEND;TZID=Europe/Paris:20250627T120000
DTSTAMP:20260425T121930
CREATED:20230818T191201Z
LAST-MODIFIED:20250606T124947Z
UID:10002427-1751020200-1751025600@www.lamaisondumarais.ch
SUMMARY:Apéro canadien
DESCRIPTION:Venez partager un apéritif convivial\, où chacun est invité à apporter un petit quelque chose à partager. \nDe 0 à 99 ans
URL:https://www.lamaisondumarais.ch/event/apero-canadien/2025-06-27/
LOCATION:La Maison du Marais\, Chemin de Vers 36 Plan-les-Ouates\, Genève\, 1228\, Suisse
CATEGORIES:CONVIVIALITÉ
ATTACH;FMTTYPE=image/jpeg:https://www.lamaisondumarais.ch/wp-content/uploads/2023/08/apero-canadien.jpg
ORGANIZER;CN="La Maison du Marais":MAILTO:info@lamaisondumarais.ch
END:VEVENT
BEGIN:VEVENT
DTSTART;TZID=Europe/Paris:20250626T090000
DTEND;TZID=Europe/Paris:20250626T110000
DTSTAMP:20260425T121930
CREATED:20240314T091635Z
LAST-MODIFIED:20250606T124627Z
UID:10002374-1750928400-1750935600@www.lamaisondumarais.ch
SUMMARY:Pause Café
DESCRIPTION:Envie de rencontrer des habitants de votre quartier ? D’échanger une discussion autour d’un bon café croissant ? \nVenez comme vous êtes\, les bénévoles de la Maison du Marais vous accueillent avec grand plaisir!
URL:https://www.lamaisondumarais.ch/event/pause-cafe-2-2-2/2025-06-26/
LOCATION:La Maison du Marais\, Chemin de Vers 36 Plan-les-Ouates\, Genève\, 1228\, Suisse
CATEGORIES:CONVIVIALITÉ
ATTACH;FMTTYPE=image/jpeg:https://www.lamaisondumarais.ch/wp-content/uploads/2023/08/pause-cafe.jpg
ORGANIZER;CN="La Maison du Marais":MAILTO:info@lamaisondumarais.ch
END:VEVENT
BEGIN:VEVENT
DTSTART;TZID=Europe/Paris:20250625T103000
DTEND;TZID=Europe/Paris:20250625T113000
DTSTAMP:20260425T121930
CREATED:20240815T181606Z
LAST-MODIFIED:20250103T155113Z
UID:10002861-1750847400-1750851000@www.lamaisondumarais.ch
SUMMARY:Julie vous lit
DESCRIPTION:Julie vous lit ses plus belles histoires \nUne fois par mois\, les enfants pourront écouter et vivre des histoires animées: de façon théâtrale\, avec images sur grand écran\, en participant à l’histoire. \nTemps de lectures suivi d’un temps de jeux libres. \nDès 2 ans
URL:https://www.lamaisondumarais.ch/event/julie-vous-lit-2/2025-06-25/
LOCATION:La Maison du Marais\, Chemin de Vers 36 Plan-les-Ouates\, Genève\, 1228\, Suisse
CATEGORIES:ENFANTS
ATTACH;FMTTYPE=image/png:https://www.lamaisondumarais.ch/wp-content/uploads/2023/08/Julie-vous-lit-ses-plus-belles-histoires.png
ORGANIZER;CN="La Maison du Marais":MAILTO:info@lamaisondumarais.ch
END:VEVENT
END:VCALENDAR