BEGIN:VCALENDAR
VERSION:2.0
PRODID:-//La maison du Marais - ECPv6.15.20//NONSGML v1.0//EN
CALSCALE:GREGORIAN
METHOD:PUBLISH
X-WR-CALNAME:La maison du Marais
X-ORIGINAL-URL:https://www.lamaisondumarais.ch
X-WR-CALDESC:Évènements pour La maison du Marais
REFRESH-INTERVAL;VALUE=DURATION:PT1H
X-Robots-Tag:noindex
X-PUBLISHED-TTL:PT1H
BEGIN:VTIMEZONE
TZID:Europe/Paris
BEGIN:DAYLIGHT
TZOFFSETFROM:+0100
TZOFFSETTO:+0200
TZNAME:CEST
DTSTART:20260329T010000
END:DAYLIGHT
BEGIN:STANDARD
TZOFFSETFROM:+0200
TZOFFSETTO:+0100
TZNAME:CET
DTSTART:20261025T010000
END:STANDARD
BEGIN:DAYLIGHT
TZOFFSETFROM:+0100
TZOFFSETTO:+0200
TZNAME:CEST
DTSTART:20270328T010000
END:DAYLIGHT
BEGIN:STANDARD
TZOFFSETFROM:+0200
TZOFFSETTO:+0100
TZNAME:CET
DTSTART:20271031T010000
END:STANDARD
BEGIN:DAYLIGHT
TZOFFSETFROM:+0100
TZOFFSETTO:+0200
TZNAME:CEST
DTSTART:20280326T010000
END:DAYLIGHT
BEGIN:STANDARD
TZOFFSETFROM:+0200
TZOFFSETTO:+0100
TZNAME:CET
DTSTART:20281029T010000
END:STANDARD
END:VTIMEZONE
BEGIN:VEVENT
DTSTART;TZID=Europe/Paris:20270402T103000
DTEND;TZID=Europe/Paris:20270402T120000
DTSTAMP:20260425T174757
CREATED:20251014T093259Z
LAST-MODIFIED:20251014T093448Z
UID:10004158-1806661800-1806667200@www.lamaisondumarais.ch
SUMMARY:Apéro canadien
DESCRIPTION:Chaque vendredi de 10h30 à 12h
URL:https://www.lamaisondumarais.ch/event/apero/2027-04-02/
CATEGORIES:CONVIVIALITÉ
ATTACH;FMTTYPE=image/jpeg:https://www.lamaisondumarais.ch/wp-content/uploads/2025/10/IMG_1670-scaled.jpeg
END:VEVENT
BEGIN:VEVENT
DTSTART;TZID=Europe/Paris:20270409T103000
DTEND;TZID=Europe/Paris:20270409T120000
DTSTAMP:20260425T174757
CREATED:20251014T093259Z
LAST-MODIFIED:20251014T093448Z
UID:10004159-1807266600-1807272000@www.lamaisondumarais.ch
SUMMARY:Apéro canadien
DESCRIPTION:Chaque vendredi de 10h30 à 12h
URL:https://www.lamaisondumarais.ch/event/apero/2027-04-09/
CATEGORIES:CONVIVIALITÉ
ATTACH;FMTTYPE=image/jpeg:https://www.lamaisondumarais.ch/wp-content/uploads/2025/10/IMG_1670-scaled.jpeg
END:VEVENT
BEGIN:VEVENT
DTSTART;TZID=Europe/Paris:20270416T103000
DTEND;TZID=Europe/Paris:20270416T120000
DTSTAMP:20260425T174757
CREATED:20251014T093259Z
LAST-MODIFIED:20251014T093448Z
UID:10004160-1807871400-1807876800@www.lamaisondumarais.ch
SUMMARY:Apéro canadien
DESCRIPTION:Chaque vendredi de 10h30 à 12h
URL:https://www.lamaisondumarais.ch/event/apero/2027-04-16/
CATEGORIES:CONVIVIALITÉ
ATTACH;FMTTYPE=image/jpeg:https://www.lamaisondumarais.ch/wp-content/uploads/2025/10/IMG_1670-scaled.jpeg
END:VEVENT
BEGIN:VEVENT
DTSTART;TZID=Europe/Paris:20270423T103000
DTEND;TZID=Europe/Paris:20270423T120000
DTSTAMP:20260425T174757
CREATED:20251014T093259Z
LAST-MODIFIED:20251014T093448Z
UID:10004161-1808476200-1808481600@www.lamaisondumarais.ch
SUMMARY:Apéro canadien
DESCRIPTION:Chaque vendredi de 10h30 à 12h
URL:https://www.lamaisondumarais.ch/event/apero/2027-04-23/
CATEGORIES:CONVIVIALITÉ
ATTACH;FMTTYPE=image/jpeg:https://www.lamaisondumarais.ch/wp-content/uploads/2025/10/IMG_1670-scaled.jpeg
END:VEVENT
BEGIN:VEVENT
DTSTART;TZID=Europe/Paris:20270430T103000
DTEND;TZID=Europe/Paris:20270430T120000
DTSTAMP:20260425T174757
CREATED:20251014T093259Z
LAST-MODIFIED:20251014T093448Z
UID:10004162-1809081000-1809086400@www.lamaisondumarais.ch
SUMMARY:Apéro canadien
DESCRIPTION:Chaque vendredi de 10h30 à 12h
URL:https://www.lamaisondumarais.ch/event/apero/2027-04-30/
CATEGORIES:CONVIVIALITÉ
ATTACH;FMTTYPE=image/jpeg:https://www.lamaisondumarais.ch/wp-content/uploads/2025/10/IMG_1670-scaled.jpeg
END:VEVENT
BEGIN:VEVENT
DTSTART;TZID=Europe/Paris:20270507T103000
DTEND;TZID=Europe/Paris:20270507T120000
DTSTAMP:20260425T174757
CREATED:20251014T093259Z
LAST-MODIFIED:20251014T093448Z
UID:10004163-1809685800-1809691200@www.lamaisondumarais.ch
SUMMARY:Apéro canadien
DESCRIPTION:Chaque vendredi de 10h30 à 12h
URL:https://www.lamaisondumarais.ch/event/apero/2027-05-07/
CATEGORIES:CONVIVIALITÉ
ATTACH;FMTTYPE=image/jpeg:https://www.lamaisondumarais.ch/wp-content/uploads/2025/10/IMG_1670-scaled.jpeg
END:VEVENT
BEGIN:VEVENT
DTSTART;TZID=Europe/Paris:20270514T103000
DTEND;TZID=Europe/Paris:20270514T120000
DTSTAMP:20260425T174757
CREATED:20251014T093259Z
LAST-MODIFIED:20251014T093448Z
UID:10004164-1810290600-1810296000@www.lamaisondumarais.ch
SUMMARY:Apéro canadien
DESCRIPTION:Chaque vendredi de 10h30 à 12h
URL:https://www.lamaisondumarais.ch/event/apero/2027-05-14/
CATEGORIES:CONVIVIALITÉ
ATTACH;FMTTYPE=image/jpeg:https://www.lamaisondumarais.ch/wp-content/uploads/2025/10/IMG_1670-scaled.jpeg
END:VEVENT
BEGIN:VEVENT
DTSTART;TZID=Europe/Paris:20270521T103000
DTEND;TZID=Europe/Paris:20270521T120000
DTSTAMP:20260425T174757
CREATED:20251014T093259Z
LAST-MODIFIED:20251014T093448Z
UID:10004165-1810895400-1810900800@www.lamaisondumarais.ch
SUMMARY:Apéro canadien
DESCRIPTION:Chaque vendredi de 10h30 à 12h
URL:https://www.lamaisondumarais.ch/event/apero/2027-05-21/
CATEGORIES:CONVIVIALITÉ
ATTACH;FMTTYPE=image/jpeg:https://www.lamaisondumarais.ch/wp-content/uploads/2025/10/IMG_1670-scaled.jpeg
END:VEVENT
BEGIN:VEVENT
DTSTART;TZID=Europe/Paris:20270528T103000
DTEND;TZID=Europe/Paris:20270528T120000
DTSTAMP:20260425T174757
CREATED:20251014T093259Z
LAST-MODIFIED:20251014T093448Z
UID:10004166-1811500200-1811505600@www.lamaisondumarais.ch
SUMMARY:Apéro canadien
DESCRIPTION:Chaque vendredi de 10h30 à 12h
URL:https://www.lamaisondumarais.ch/event/apero/2027-05-28/
CATEGORIES:CONVIVIALITÉ
ATTACH;FMTTYPE=image/jpeg:https://www.lamaisondumarais.ch/wp-content/uploads/2025/10/IMG_1670-scaled.jpeg
END:VEVENT
BEGIN:VEVENT
DTSTART;TZID=Europe/Paris:20270604T103000
DTEND;TZID=Europe/Paris:20270604T120000
DTSTAMP:20260425T174757
CREATED:20251014T093259Z
LAST-MODIFIED:20251014T093448Z
UID:10004167-1812105000-1812110400@www.lamaisondumarais.ch
SUMMARY:Apéro canadien
DESCRIPTION:Chaque vendredi de 10h30 à 12h
URL:https://www.lamaisondumarais.ch/event/apero/2027-06-04/
CATEGORIES:CONVIVIALITÉ
ATTACH;FMTTYPE=image/jpeg:https://www.lamaisondumarais.ch/wp-content/uploads/2025/10/IMG_1670-scaled.jpeg
END:VEVENT
BEGIN:VEVENT
DTSTART;TZID=Europe/Paris:20270611T103000
DTEND;TZID=Europe/Paris:20270611T120000
DTSTAMP:20260425T174757
CREATED:20251014T093259Z
LAST-MODIFIED:20251014T093448Z
UID:10004168-1812709800-1812715200@www.lamaisondumarais.ch
SUMMARY:Apéro canadien
DESCRIPTION:Chaque vendredi de 10h30 à 12h
URL:https://www.lamaisondumarais.ch/event/apero/2027-06-11/
CATEGORIES:CONVIVIALITÉ
ATTACH;FMTTYPE=image/jpeg:https://www.lamaisondumarais.ch/wp-content/uploads/2025/10/IMG_1670-scaled.jpeg
END:VEVENT
BEGIN:VEVENT
DTSTART;TZID=Europe/Paris:20270618T103000
DTEND;TZID=Europe/Paris:20270618T120000
DTSTAMP:20260425T174757
CREATED:20251014T093259Z
LAST-MODIFIED:20251014T093448Z
UID:10004169-1813314600-1813320000@www.lamaisondumarais.ch
SUMMARY:Apéro canadien
DESCRIPTION:Chaque vendredi de 10h30 à 12h
URL:https://www.lamaisondumarais.ch/event/apero/2027-06-18/
CATEGORIES:CONVIVIALITÉ
ATTACH;FMTTYPE=image/jpeg:https://www.lamaisondumarais.ch/wp-content/uploads/2025/10/IMG_1670-scaled.jpeg
END:VEVENT
BEGIN:VEVENT
DTSTART;TZID=Europe/Paris:20270625T103000
DTEND;TZID=Europe/Paris:20270625T120000
DTSTAMP:20260425T174757
CREATED:20251014T093259Z
LAST-MODIFIED:20251014T093448Z
UID:10004170-1813919400-1813924800@www.lamaisondumarais.ch
SUMMARY:Apéro canadien
DESCRIPTION:Chaque vendredi de 10h30 à 12h
URL:https://www.lamaisondumarais.ch/event/apero/2027-06-25/
CATEGORIES:CONVIVIALITÉ
ATTACH;FMTTYPE=image/jpeg:https://www.lamaisondumarais.ch/wp-content/uploads/2025/10/IMG_1670-scaled.jpeg
END:VEVENT
BEGIN:VEVENT
DTSTART;TZID=Europe/Paris:20270702T103000
DTEND;TZID=Europe/Paris:20270702T120000
DTSTAMP:20260425T174757
CREATED:20251014T093259Z
LAST-MODIFIED:20251014T093448Z
UID:10004171-1814524200-1814529600@www.lamaisondumarais.ch
SUMMARY:Apéro canadien
DESCRIPTION:Chaque vendredi de 10h30 à 12h
URL:https://www.lamaisondumarais.ch/event/apero/2027-07-02/
CATEGORIES:CONVIVIALITÉ
ATTACH;FMTTYPE=image/jpeg:https://www.lamaisondumarais.ch/wp-content/uploads/2025/10/IMG_1670-scaled.jpeg
END:VEVENT
BEGIN:VEVENT
DTSTART;TZID=Europe/Paris:20270709T103000
DTEND;TZID=Europe/Paris:20270709T120000
DTSTAMP:20260425T174757
CREATED:20251014T093259Z
LAST-MODIFIED:20251014T093448Z
UID:10004172-1815129000-1815134400@www.lamaisondumarais.ch
SUMMARY:Apéro canadien
DESCRIPTION:Chaque vendredi de 10h30 à 12h
URL:https://www.lamaisondumarais.ch/event/apero/2027-07-09/
CATEGORIES:CONVIVIALITÉ
ATTACH;FMTTYPE=image/jpeg:https://www.lamaisondumarais.ch/wp-content/uploads/2025/10/IMG_1670-scaled.jpeg
END:VEVENT
BEGIN:VEVENT
DTSTART;TZID=Europe/Paris:20270716T103000
DTEND;TZID=Europe/Paris:20270716T120000
DTSTAMP:20260425T174757
CREATED:20251014T093259Z
LAST-MODIFIED:20251014T093448Z
UID:10004173-1815733800-1815739200@www.lamaisondumarais.ch
SUMMARY:Apéro canadien
DESCRIPTION:Chaque vendredi de 10h30 à 12h
URL:https://www.lamaisondumarais.ch/event/apero/2027-07-16/
CATEGORIES:CONVIVIALITÉ
ATTACH;FMTTYPE=image/jpeg:https://www.lamaisondumarais.ch/wp-content/uploads/2025/10/IMG_1670-scaled.jpeg
END:VEVENT
BEGIN:VEVENT
DTSTART;TZID=Europe/Paris:20270723T103000
DTEND;TZID=Europe/Paris:20270723T120000
DTSTAMP:20260425T174757
CREATED:20251014T093259Z
LAST-MODIFIED:20251014T093448Z
UID:10004174-1816338600-1816344000@www.lamaisondumarais.ch
SUMMARY:Apéro canadien
DESCRIPTION:Chaque vendredi de 10h30 à 12h
URL:https://www.lamaisondumarais.ch/event/apero/2027-07-23/
CATEGORIES:CONVIVIALITÉ
ATTACH;FMTTYPE=image/jpeg:https://www.lamaisondumarais.ch/wp-content/uploads/2025/10/IMG_1670-scaled.jpeg
END:VEVENT
BEGIN:VEVENT
DTSTART;TZID=Europe/Paris:20270730T103000
DTEND;TZID=Europe/Paris:20270730T120000
DTSTAMP:20260425T174757
CREATED:20251014T093259Z
LAST-MODIFIED:20251014T093448Z
UID:10004175-1816943400-1816948800@www.lamaisondumarais.ch
SUMMARY:Apéro canadien
DESCRIPTION:Chaque vendredi de 10h30 à 12h
URL:https://www.lamaisondumarais.ch/event/apero/2027-07-30/
CATEGORIES:CONVIVIALITÉ
ATTACH;FMTTYPE=image/jpeg:https://www.lamaisondumarais.ch/wp-content/uploads/2025/10/IMG_1670-scaled.jpeg
END:VEVENT
BEGIN:VEVENT
DTSTART;TZID=Europe/Paris:20270806T103000
DTEND;TZID=Europe/Paris:20270806T120000
DTSTAMP:20260425T174757
CREATED:20251014T093259Z
LAST-MODIFIED:20251014T093448Z
UID:10004176-1817548200-1817553600@www.lamaisondumarais.ch
SUMMARY:Apéro canadien
DESCRIPTION:Chaque vendredi de 10h30 à 12h
URL:https://www.lamaisondumarais.ch/event/apero/2027-08-06/
CATEGORIES:CONVIVIALITÉ
ATTACH;FMTTYPE=image/jpeg:https://www.lamaisondumarais.ch/wp-content/uploads/2025/10/IMG_1670-scaled.jpeg
END:VEVENT
BEGIN:VEVENT
DTSTART;TZID=Europe/Paris:20270813T103000
DTEND;TZID=Europe/Paris:20270813T120000
DTSTAMP:20260425T174757
CREATED:20251014T093259Z
LAST-MODIFIED:20251014T093448Z
UID:10004177-1818153000-1818158400@www.lamaisondumarais.ch
SUMMARY:Apéro canadien
DESCRIPTION:Chaque vendredi de 10h30 à 12h
URL:https://www.lamaisondumarais.ch/event/apero/2027-08-13/
CATEGORIES:CONVIVIALITÉ
ATTACH;FMTTYPE=image/jpeg:https://www.lamaisondumarais.ch/wp-content/uploads/2025/10/IMG_1670-scaled.jpeg
END:VEVENT
BEGIN:VEVENT
DTSTART;TZID=Europe/Paris:20270820T103000
DTEND;TZID=Europe/Paris:20270820T120000
DTSTAMP:20260425T174757
CREATED:20251014T093259Z
LAST-MODIFIED:20251014T093448Z
UID:10004178-1818757800-1818763200@www.lamaisondumarais.ch
SUMMARY:Apéro canadien
DESCRIPTION:Chaque vendredi de 10h30 à 12h
URL:https://www.lamaisondumarais.ch/event/apero/2027-08-20/
CATEGORIES:CONVIVIALITÉ
ATTACH;FMTTYPE=image/jpeg:https://www.lamaisondumarais.ch/wp-content/uploads/2025/10/IMG_1670-scaled.jpeg
END:VEVENT
BEGIN:VEVENT
DTSTART;TZID=Europe/Paris:20270827T103000
DTEND;TZID=Europe/Paris:20270827T120000
DTSTAMP:20260425T174757
CREATED:20251014T093259Z
LAST-MODIFIED:20251014T093448Z
UID:10004179-1819362600-1819368000@www.lamaisondumarais.ch
SUMMARY:Apéro canadien
DESCRIPTION:Chaque vendredi de 10h30 à 12h
URL:https://www.lamaisondumarais.ch/event/apero/2027-08-27/
CATEGORIES:CONVIVIALITÉ
ATTACH;FMTTYPE=image/jpeg:https://www.lamaisondumarais.ch/wp-content/uploads/2025/10/IMG_1670-scaled.jpeg
END:VEVENT
BEGIN:VEVENT
DTSTART;TZID=Europe/Paris:20270903T103000
DTEND;TZID=Europe/Paris:20270903T120000
DTSTAMP:20260425T174757
CREATED:20251014T093259Z
LAST-MODIFIED:20251014T093448Z
UID:10004180-1819967400-1819972800@www.lamaisondumarais.ch
SUMMARY:Apéro canadien
DESCRIPTION:Chaque vendredi de 10h30 à 12h
URL:https://www.lamaisondumarais.ch/event/apero/2027-09-03/
CATEGORIES:CONVIVIALITÉ
ATTACH;FMTTYPE=image/jpeg:https://www.lamaisondumarais.ch/wp-content/uploads/2025/10/IMG_1670-scaled.jpeg
END:VEVENT
BEGIN:VEVENT
DTSTART;TZID=Europe/Paris:20270910T103000
DTEND;TZID=Europe/Paris:20270910T120000
DTSTAMP:20260425T174757
CREATED:20251014T093259Z
LAST-MODIFIED:20251014T093448Z
UID:10004181-1820572200-1820577600@www.lamaisondumarais.ch
SUMMARY:Apéro canadien
DESCRIPTION:Chaque vendredi de 10h30 à 12h
URL:https://www.lamaisondumarais.ch/event/apero/2027-09-10/
CATEGORIES:CONVIVIALITÉ
ATTACH;FMTTYPE=image/jpeg:https://www.lamaisondumarais.ch/wp-content/uploads/2025/10/IMG_1670-scaled.jpeg
END:VEVENT
BEGIN:VEVENT
DTSTART;TZID=Europe/Paris:20270917T103000
DTEND;TZID=Europe/Paris:20270917T120000
DTSTAMP:20260425T174757
CREATED:20251014T093259Z
LAST-MODIFIED:20251014T093448Z
UID:10004182-1821177000-1821182400@www.lamaisondumarais.ch
SUMMARY:Apéro canadien
DESCRIPTION:Chaque vendredi de 10h30 à 12h
URL:https://www.lamaisondumarais.ch/event/apero/2027-09-17/
CATEGORIES:CONVIVIALITÉ
ATTACH;FMTTYPE=image/jpeg:https://www.lamaisondumarais.ch/wp-content/uploads/2025/10/IMG_1670-scaled.jpeg
END:VEVENT
BEGIN:VEVENT
DTSTART;TZID=Europe/Paris:20270924T103000
DTEND;TZID=Europe/Paris:20270924T120000
DTSTAMP:20260425T174757
CREATED:20251014T093259Z
LAST-MODIFIED:20251014T093448Z
UID:10004183-1821781800-1821787200@www.lamaisondumarais.ch
SUMMARY:Apéro canadien
DESCRIPTION:Chaque vendredi de 10h30 à 12h
URL:https://www.lamaisondumarais.ch/event/apero/2027-09-24/
CATEGORIES:CONVIVIALITÉ
ATTACH;FMTTYPE=image/jpeg:https://www.lamaisondumarais.ch/wp-content/uploads/2025/10/IMG_1670-scaled.jpeg
END:VEVENT
BEGIN:VEVENT
DTSTART;TZID=Europe/Paris:20271001T103000
DTEND;TZID=Europe/Paris:20271001T120000
DTSTAMP:20260425T174757
CREATED:20251014T093259Z
LAST-MODIFIED:20251014T093448Z
UID:10004184-1822386600-1822392000@www.lamaisondumarais.ch
SUMMARY:Apéro canadien
DESCRIPTION:Chaque vendredi de 10h30 à 12h
URL:https://www.lamaisondumarais.ch/event/apero/2027-10-01/
CATEGORIES:CONVIVIALITÉ
ATTACH;FMTTYPE=image/jpeg:https://www.lamaisondumarais.ch/wp-content/uploads/2025/10/IMG_1670-scaled.jpeg
END:VEVENT
BEGIN:VEVENT
DTSTART;TZID=Europe/Paris:20271008T103000
DTEND;TZID=Europe/Paris:20271008T120000
DTSTAMP:20260425T174758
CREATED:20251014T093259Z
LAST-MODIFIED:20251014T093448Z
UID:10004185-1822991400-1822996800@www.lamaisondumarais.ch
SUMMARY:Apéro canadien
DESCRIPTION:Chaque vendredi de 10h30 à 12h
URL:https://www.lamaisondumarais.ch/event/apero/2027-10-08/
CATEGORIES:CONVIVIALITÉ
ATTACH;FMTTYPE=image/jpeg:https://www.lamaisondumarais.ch/wp-content/uploads/2025/10/IMG_1670-scaled.jpeg
END:VEVENT
BEGIN:VEVENT
DTSTART;TZID=Europe/Paris:20271015T103000
DTEND;TZID=Europe/Paris:20271015T120000
DTSTAMP:20260425T174758
CREATED:20251014T093259Z
LAST-MODIFIED:20251014T093448Z
UID:10004186-1823596200-1823601600@www.lamaisondumarais.ch
SUMMARY:Apéro canadien
DESCRIPTION:Chaque vendredi de 10h30 à 12h
URL:https://www.lamaisondumarais.ch/event/apero/2027-10-15/
CATEGORIES:CONVIVIALITÉ
ATTACH;FMTTYPE=image/jpeg:https://www.lamaisondumarais.ch/wp-content/uploads/2025/10/IMG_1670-scaled.jpeg
END:VEVENT
BEGIN:VEVENT
DTSTART;TZID=Europe/Paris:20271022T103000
DTEND;TZID=Europe/Paris:20271022T120000
DTSTAMP:20260425T174758
CREATED:20251014T093259Z
LAST-MODIFIED:20251014T093448Z
UID:10004187-1824201000-1824206400@www.lamaisondumarais.ch
SUMMARY:Apéro canadien
DESCRIPTION:Chaque vendredi de 10h30 à 12h
URL:https://www.lamaisondumarais.ch/event/apero/2027-10-22/
CATEGORIES:CONVIVIALITÉ
ATTACH;FMTTYPE=image/jpeg:https://www.lamaisondumarais.ch/wp-content/uploads/2025/10/IMG_1670-scaled.jpeg
END:VEVENT
END:VCALENDAR