BEGIN:VCALENDAR
VERSION:2.0
PRODID:-//La maison du Marais - ECPv6.15.20//NONSGML v1.0//EN
CALSCALE:GREGORIAN
METHOD:PUBLISH
X-ORIGINAL-URL:https://www.lamaisondumarais.ch
X-WR-CALDESC:Évènements pour La maison du Marais
REFRESH-INTERVAL;VALUE=DURATION:PT1H
X-Robots-Tag:noindex
X-PUBLISHED-TTL:PT1H
BEGIN:VTIMEZONE
TZID:Europe/Paris
BEGIN:DAYLIGHT
TZOFFSETFROM:+0100
TZOFFSETTO:+0200
TZNAME:CEST
DTSTART:20250330T010000
END:DAYLIGHT
BEGIN:STANDARD
TZOFFSETFROM:+0200
TZOFFSETTO:+0100
TZNAME:CET
DTSTART:20251026T010000
END:STANDARD
BEGIN:DAYLIGHT
TZOFFSETFROM:+0100
TZOFFSETTO:+0200
TZNAME:CEST
DTSTART:20260329T010000
END:DAYLIGHT
BEGIN:STANDARD
TZOFFSETFROM:+0200
TZOFFSETTO:+0100
TZNAME:CET
DTSTART:20261025T010000
END:STANDARD
BEGIN:DAYLIGHT
TZOFFSETFROM:+0100
TZOFFSETTO:+0200
TZNAME:CEST
DTSTART:20270328T010000
END:DAYLIGHT
BEGIN:STANDARD
TZOFFSETFROM:+0200
TZOFFSETTO:+0100
TZNAME:CET
DTSTART:20271031T010000
END:STANDARD
BEGIN:DAYLIGHT
TZOFFSETFROM:+0100
TZOFFSETTO:+0200
TZNAME:CEST
DTSTART:20280326T010000
END:DAYLIGHT
BEGIN:STANDARD
TZOFFSETFROM:+0200
TZOFFSETTO:+0100
TZNAME:CET
DTSTART:20281029T010000
END:STANDARD
END:VTIMEZONE
BEGIN:VEVENT
DTSTART;TZID=Europe/Paris:20261009T103000
DTEND;TZID=Europe/Paris:20261009T120000
DTSTAMP:20260423T123755
CREATED:20251014T093259Z
LAST-MODIFIED:20251014T093448Z
UID:10004133-1791541800-1791547200@www.lamaisondumarais.ch
SUMMARY:Apéro canadien
DESCRIPTION:Chaque vendredi de 10h30 à 12h
URL:https://www.lamaisondumarais.ch/event/apero/2026-10-09/
CATEGORIES:CONVIVIALITÉ
ATTACH;FMTTYPE=image/jpeg:https://www.lamaisondumarais.ch/wp-content/uploads/2025/10/IMG_1670-scaled.jpeg
END:VEVENT
BEGIN:VEVENT
DTSTART;TZID=Europe/Paris:20261016T103000
DTEND;TZID=Europe/Paris:20261016T120000
DTSTAMP:20260423T123755
CREATED:20251014T093259Z
LAST-MODIFIED:20251014T093448Z
UID:10004134-1792146600-1792152000@www.lamaisondumarais.ch
SUMMARY:Apéro canadien
DESCRIPTION:Chaque vendredi de 10h30 à 12h
URL:https://www.lamaisondumarais.ch/event/apero/2026-10-16/
CATEGORIES:CONVIVIALITÉ
ATTACH;FMTTYPE=image/jpeg:https://www.lamaisondumarais.ch/wp-content/uploads/2025/10/IMG_1670-scaled.jpeg
END:VEVENT
BEGIN:VEVENT
DTSTART;TZID=Europe/Paris:20261023T103000
DTEND;TZID=Europe/Paris:20261023T120000
DTSTAMP:20260423T123755
CREATED:20251014T093259Z
LAST-MODIFIED:20251014T093448Z
UID:10004135-1792751400-1792756800@www.lamaisondumarais.ch
SUMMARY:Apéro canadien
DESCRIPTION:Chaque vendredi de 10h30 à 12h
URL:https://www.lamaisondumarais.ch/event/apero/2026-10-23/
CATEGORIES:CONVIVIALITÉ
ATTACH;FMTTYPE=image/jpeg:https://www.lamaisondumarais.ch/wp-content/uploads/2025/10/IMG_1670-scaled.jpeg
END:VEVENT
BEGIN:VEVENT
DTSTART;TZID=Europe/Paris:20261030T103000
DTEND;TZID=Europe/Paris:20261030T120000
DTSTAMP:20260423T123755
CREATED:20251014T093259Z
LAST-MODIFIED:20251014T093448Z
UID:10004136-1793356200-1793361600@www.lamaisondumarais.ch
SUMMARY:Apéro canadien
DESCRIPTION:Chaque vendredi de 10h30 à 12h
URL:https://www.lamaisondumarais.ch/event/apero/2026-10-30/
CATEGORIES:CONVIVIALITÉ
ATTACH;FMTTYPE=image/jpeg:https://www.lamaisondumarais.ch/wp-content/uploads/2025/10/IMG_1670-scaled.jpeg
END:VEVENT
BEGIN:VEVENT
DTSTART;TZID=Europe/Paris:20261106T103000
DTEND;TZID=Europe/Paris:20261106T120000
DTSTAMP:20260423T123755
CREATED:20251014T093259Z
LAST-MODIFIED:20251014T093448Z
UID:10004137-1793961000-1793966400@www.lamaisondumarais.ch
SUMMARY:Apéro canadien
DESCRIPTION:Chaque vendredi de 10h30 à 12h
URL:https://www.lamaisondumarais.ch/event/apero/2026-11-06/
CATEGORIES:CONVIVIALITÉ
ATTACH;FMTTYPE=image/jpeg:https://www.lamaisondumarais.ch/wp-content/uploads/2025/10/IMG_1670-scaled.jpeg
END:VEVENT
BEGIN:VEVENT
DTSTART;TZID=Europe/Paris:20261113T103000
DTEND;TZID=Europe/Paris:20261113T120000
DTSTAMP:20260423T123755
CREATED:20251014T093259Z
LAST-MODIFIED:20251014T093448Z
UID:10004138-1794565800-1794571200@www.lamaisondumarais.ch
SUMMARY:Apéro canadien
DESCRIPTION:Chaque vendredi de 10h30 à 12h
URL:https://www.lamaisondumarais.ch/event/apero/2026-11-13/
CATEGORIES:CONVIVIALITÉ
ATTACH;FMTTYPE=image/jpeg:https://www.lamaisondumarais.ch/wp-content/uploads/2025/10/IMG_1670-scaled.jpeg
END:VEVENT
BEGIN:VEVENT
DTSTART;TZID=Europe/Paris:20261120T103000
DTEND;TZID=Europe/Paris:20261120T120000
DTSTAMP:20260423T123755
CREATED:20251014T093259Z
LAST-MODIFIED:20251014T093448Z
UID:10004139-1795170600-1795176000@www.lamaisondumarais.ch
SUMMARY:Apéro canadien
DESCRIPTION:Chaque vendredi de 10h30 à 12h
URL:https://www.lamaisondumarais.ch/event/apero/2026-11-20/
CATEGORIES:CONVIVIALITÉ
ATTACH;FMTTYPE=image/jpeg:https://www.lamaisondumarais.ch/wp-content/uploads/2025/10/IMG_1670-scaled.jpeg
END:VEVENT
BEGIN:VEVENT
DTSTART;TZID=Europe/Paris:20261127T103000
DTEND;TZID=Europe/Paris:20261127T120000
DTSTAMP:20260423T123755
CREATED:20251014T093259Z
LAST-MODIFIED:20251014T093448Z
UID:10004140-1795775400-1795780800@www.lamaisondumarais.ch
SUMMARY:Apéro canadien
DESCRIPTION:Chaque vendredi de 10h30 à 12h
URL:https://www.lamaisondumarais.ch/event/apero/2026-11-27/
CATEGORIES:CONVIVIALITÉ
ATTACH;FMTTYPE=image/jpeg:https://www.lamaisondumarais.ch/wp-content/uploads/2025/10/IMG_1670-scaled.jpeg
END:VEVENT
BEGIN:VEVENT
DTSTART;TZID=Europe/Paris:20261204T103000
DTEND;TZID=Europe/Paris:20261204T120000
DTSTAMP:20260423T123755
CREATED:20251014T093259Z
LAST-MODIFIED:20251014T093448Z
UID:10004141-1796380200-1796385600@www.lamaisondumarais.ch
SUMMARY:Apéro canadien
DESCRIPTION:Chaque vendredi de 10h30 à 12h
URL:https://www.lamaisondumarais.ch/event/apero/2026-12-04/
CATEGORIES:CONVIVIALITÉ
ATTACH;FMTTYPE=image/jpeg:https://www.lamaisondumarais.ch/wp-content/uploads/2025/10/IMG_1670-scaled.jpeg
END:VEVENT
BEGIN:VEVENT
DTSTART;TZID=Europe/Paris:20261211T103000
DTEND;TZID=Europe/Paris:20261211T120000
DTSTAMP:20260423T123755
CREATED:20251014T093259Z
LAST-MODIFIED:20251014T093448Z
UID:10004142-1796985000-1796990400@www.lamaisondumarais.ch
SUMMARY:Apéro canadien
DESCRIPTION:Chaque vendredi de 10h30 à 12h
URL:https://www.lamaisondumarais.ch/event/apero/2026-12-11/
CATEGORIES:CONVIVIALITÉ
ATTACH;FMTTYPE=image/jpeg:https://www.lamaisondumarais.ch/wp-content/uploads/2025/10/IMG_1670-scaled.jpeg
END:VEVENT
BEGIN:VEVENT
DTSTART;TZID=Europe/Paris:20261218T103000
DTEND;TZID=Europe/Paris:20261218T120000
DTSTAMP:20260423T123755
CREATED:20251014T093259Z
LAST-MODIFIED:20251014T093448Z
UID:10004143-1797589800-1797595200@www.lamaisondumarais.ch
SUMMARY:Apéro canadien
DESCRIPTION:Chaque vendredi de 10h30 à 12h
URL:https://www.lamaisondumarais.ch/event/apero/2026-12-18/
CATEGORIES:CONVIVIALITÉ
ATTACH;FMTTYPE=image/jpeg:https://www.lamaisondumarais.ch/wp-content/uploads/2025/10/IMG_1670-scaled.jpeg
END:VEVENT
BEGIN:VEVENT
DTSTART;TZID=Europe/Paris:20261225T103000
DTEND;TZID=Europe/Paris:20261225T120000
DTSTAMP:20260423T123755
CREATED:20251014T093259Z
LAST-MODIFIED:20251014T093448Z
UID:10004144-1798194600-1798200000@www.lamaisondumarais.ch
SUMMARY:Apéro canadien
DESCRIPTION:Chaque vendredi de 10h30 à 12h
URL:https://www.lamaisondumarais.ch/event/apero/2026-12-25/
CATEGORIES:CONVIVIALITÉ
ATTACH;FMTTYPE=image/jpeg:https://www.lamaisondumarais.ch/wp-content/uploads/2025/10/IMG_1670-scaled.jpeg
END:VEVENT
BEGIN:VEVENT
DTSTART;TZID=Europe/Paris:20270101T103000
DTEND;TZID=Europe/Paris:20270101T120000
DTSTAMP:20260423T123755
CREATED:20251014T093259Z
LAST-MODIFIED:20251014T093448Z
UID:10004145-1798799400-1798804800@www.lamaisondumarais.ch
SUMMARY:Apéro canadien
DESCRIPTION:Chaque vendredi de 10h30 à 12h
URL:https://www.lamaisondumarais.ch/event/apero/2027-01-01/
CATEGORIES:CONVIVIALITÉ
ATTACH;FMTTYPE=image/jpeg:https://www.lamaisondumarais.ch/wp-content/uploads/2025/10/IMG_1670-scaled.jpeg
END:VEVENT
BEGIN:VEVENT
DTSTART;TZID=Europe/Paris:20270108T103000
DTEND;TZID=Europe/Paris:20270108T120000
DTSTAMP:20260423T123755
CREATED:20251014T093259Z
LAST-MODIFIED:20251014T093448Z
UID:10004146-1799404200-1799409600@www.lamaisondumarais.ch
SUMMARY:Apéro canadien
DESCRIPTION:Chaque vendredi de 10h30 à 12h
URL:https://www.lamaisondumarais.ch/event/apero/2027-01-08/
CATEGORIES:CONVIVIALITÉ
ATTACH;FMTTYPE=image/jpeg:https://www.lamaisondumarais.ch/wp-content/uploads/2025/10/IMG_1670-scaled.jpeg
END:VEVENT
BEGIN:VEVENT
DTSTART;TZID=Europe/Paris:20270115T103000
DTEND;TZID=Europe/Paris:20270115T120000
DTSTAMP:20260423T123755
CREATED:20251014T093259Z
LAST-MODIFIED:20251014T093448Z
UID:10004147-1800009000-1800014400@www.lamaisondumarais.ch
SUMMARY:Apéro canadien
DESCRIPTION:Chaque vendredi de 10h30 à 12h
URL:https://www.lamaisondumarais.ch/event/apero/2027-01-15/
CATEGORIES:CONVIVIALITÉ
ATTACH;FMTTYPE=image/jpeg:https://www.lamaisondumarais.ch/wp-content/uploads/2025/10/IMG_1670-scaled.jpeg
END:VEVENT
BEGIN:VEVENT
DTSTART;TZID=Europe/Paris:20270122T103000
DTEND;TZID=Europe/Paris:20270122T120000
DTSTAMP:20260423T123755
CREATED:20251014T093259Z
LAST-MODIFIED:20251014T093448Z
UID:10004148-1800613800-1800619200@www.lamaisondumarais.ch
SUMMARY:Apéro canadien
DESCRIPTION:Chaque vendredi de 10h30 à 12h
URL:https://www.lamaisondumarais.ch/event/apero/2027-01-22/
CATEGORIES:CONVIVIALITÉ
ATTACH;FMTTYPE=image/jpeg:https://www.lamaisondumarais.ch/wp-content/uploads/2025/10/IMG_1670-scaled.jpeg
END:VEVENT
BEGIN:VEVENT
DTSTART;TZID=Europe/Paris:20270129T103000
DTEND;TZID=Europe/Paris:20270129T120000
DTSTAMP:20260423T123755
CREATED:20251014T093259Z
LAST-MODIFIED:20251014T093448Z
UID:10004149-1801218600-1801224000@www.lamaisondumarais.ch
SUMMARY:Apéro canadien
DESCRIPTION:Chaque vendredi de 10h30 à 12h
URL:https://www.lamaisondumarais.ch/event/apero/2027-01-29/
CATEGORIES:CONVIVIALITÉ
ATTACH;FMTTYPE=image/jpeg:https://www.lamaisondumarais.ch/wp-content/uploads/2025/10/IMG_1670-scaled.jpeg
END:VEVENT
BEGIN:VEVENT
DTSTART;TZID=Europe/Paris:20270205T103000
DTEND;TZID=Europe/Paris:20270205T120000
DTSTAMP:20260423T123755
CREATED:20251014T093259Z
LAST-MODIFIED:20251014T093448Z
UID:10004150-1801823400-1801828800@www.lamaisondumarais.ch
SUMMARY:Apéro canadien
DESCRIPTION:Chaque vendredi de 10h30 à 12h
URL:https://www.lamaisondumarais.ch/event/apero/2027-02-05/
CATEGORIES:CONVIVIALITÉ
ATTACH;FMTTYPE=image/jpeg:https://www.lamaisondumarais.ch/wp-content/uploads/2025/10/IMG_1670-scaled.jpeg
END:VEVENT
BEGIN:VEVENT
DTSTART;TZID=Europe/Paris:20270212T103000
DTEND;TZID=Europe/Paris:20270212T120000
DTSTAMP:20260423T123755
CREATED:20251014T093259Z
LAST-MODIFIED:20251014T093448Z
UID:10004151-1802428200-1802433600@www.lamaisondumarais.ch
SUMMARY:Apéro canadien
DESCRIPTION:Chaque vendredi de 10h30 à 12h
URL:https://www.lamaisondumarais.ch/event/apero/2027-02-12/
CATEGORIES:CONVIVIALITÉ
ATTACH;FMTTYPE=image/jpeg:https://www.lamaisondumarais.ch/wp-content/uploads/2025/10/IMG_1670-scaled.jpeg
END:VEVENT
BEGIN:VEVENT
DTSTART;TZID=Europe/Paris:20270219T103000
DTEND;TZID=Europe/Paris:20270219T120000
DTSTAMP:20260423T123755
CREATED:20251014T093259Z
LAST-MODIFIED:20251014T093448Z
UID:10004152-1803033000-1803038400@www.lamaisondumarais.ch
SUMMARY:Apéro canadien
DESCRIPTION:Chaque vendredi de 10h30 à 12h
URL:https://www.lamaisondumarais.ch/event/apero/2027-02-19/
CATEGORIES:CONVIVIALITÉ
ATTACH;FMTTYPE=image/jpeg:https://www.lamaisondumarais.ch/wp-content/uploads/2025/10/IMG_1670-scaled.jpeg
END:VEVENT
BEGIN:VEVENT
DTSTART;TZID=Europe/Paris:20270226T103000
DTEND;TZID=Europe/Paris:20270226T120000
DTSTAMP:20260423T123755
CREATED:20251014T093259Z
LAST-MODIFIED:20251014T093448Z
UID:10004153-1803637800-1803643200@www.lamaisondumarais.ch
SUMMARY:Apéro canadien
DESCRIPTION:Chaque vendredi de 10h30 à 12h
URL:https://www.lamaisondumarais.ch/event/apero/2027-02-26/
CATEGORIES:CONVIVIALITÉ
ATTACH;FMTTYPE=image/jpeg:https://www.lamaisondumarais.ch/wp-content/uploads/2025/10/IMG_1670-scaled.jpeg
END:VEVENT
BEGIN:VEVENT
DTSTART;TZID=Europe/Paris:20270305T103000
DTEND;TZID=Europe/Paris:20270305T120000
DTSTAMP:20260423T123755
CREATED:20251014T093259Z
LAST-MODIFIED:20251014T093448Z
UID:10004154-1804242600-1804248000@www.lamaisondumarais.ch
SUMMARY:Apéro canadien
DESCRIPTION:Chaque vendredi de 10h30 à 12h
URL:https://www.lamaisondumarais.ch/event/apero/2027-03-05/
CATEGORIES:CONVIVIALITÉ
ATTACH;FMTTYPE=image/jpeg:https://www.lamaisondumarais.ch/wp-content/uploads/2025/10/IMG_1670-scaled.jpeg
END:VEVENT
BEGIN:VEVENT
DTSTART;TZID=Europe/Paris:20270312T103000
DTEND;TZID=Europe/Paris:20270312T120000
DTSTAMP:20260423T123755
CREATED:20251014T093259Z
LAST-MODIFIED:20251014T093448Z
UID:10004155-1804847400-1804852800@www.lamaisondumarais.ch
SUMMARY:Apéro canadien
DESCRIPTION:Chaque vendredi de 10h30 à 12h
URL:https://www.lamaisondumarais.ch/event/apero/2027-03-12/
CATEGORIES:CONVIVIALITÉ
ATTACH;FMTTYPE=image/jpeg:https://www.lamaisondumarais.ch/wp-content/uploads/2025/10/IMG_1670-scaled.jpeg
END:VEVENT
BEGIN:VEVENT
DTSTART;TZID=Europe/Paris:20270319T103000
DTEND;TZID=Europe/Paris:20270319T120000
DTSTAMP:20260423T123755
CREATED:20251014T093259Z
LAST-MODIFIED:20251014T093448Z
UID:10004156-1805452200-1805457600@www.lamaisondumarais.ch
SUMMARY:Apéro canadien
DESCRIPTION:Chaque vendredi de 10h30 à 12h
URL:https://www.lamaisondumarais.ch/event/apero/2027-03-19/
CATEGORIES:CONVIVIALITÉ
ATTACH;FMTTYPE=image/jpeg:https://www.lamaisondumarais.ch/wp-content/uploads/2025/10/IMG_1670-scaled.jpeg
END:VEVENT
BEGIN:VEVENT
DTSTART;TZID=Europe/Paris:20270326T103000
DTEND;TZID=Europe/Paris:20270326T120000
DTSTAMP:20260423T123755
CREATED:20251014T093259Z
LAST-MODIFIED:20251014T093448Z
UID:10004157-1806057000-1806062400@www.lamaisondumarais.ch
SUMMARY:Apéro canadien
DESCRIPTION:Chaque vendredi de 10h30 à 12h
URL:https://www.lamaisondumarais.ch/event/apero/2027-03-26/
CATEGORIES:CONVIVIALITÉ
ATTACH;FMTTYPE=image/jpeg:https://www.lamaisondumarais.ch/wp-content/uploads/2025/10/IMG_1670-scaled.jpeg
END:VEVENT
BEGIN:VEVENT
DTSTART;TZID=Europe/Paris:20270402T103000
DTEND;TZID=Europe/Paris:20270402T120000
DTSTAMP:20260423T123755
CREATED:20251014T093259Z
LAST-MODIFIED:20251014T093448Z
UID:10004158-1806661800-1806667200@www.lamaisondumarais.ch
SUMMARY:Apéro canadien
DESCRIPTION:Chaque vendredi de 10h30 à 12h
URL:https://www.lamaisondumarais.ch/event/apero/2027-04-02/
CATEGORIES:CONVIVIALITÉ
ATTACH;FMTTYPE=image/jpeg:https://www.lamaisondumarais.ch/wp-content/uploads/2025/10/IMG_1670-scaled.jpeg
END:VEVENT
BEGIN:VEVENT
DTSTART;TZID=Europe/Paris:20270409T103000
DTEND;TZID=Europe/Paris:20270409T120000
DTSTAMP:20260423T123755
CREATED:20251014T093259Z
LAST-MODIFIED:20251014T093448Z
UID:10004159-1807266600-1807272000@www.lamaisondumarais.ch
SUMMARY:Apéro canadien
DESCRIPTION:Chaque vendredi de 10h30 à 12h
URL:https://www.lamaisondumarais.ch/event/apero/2027-04-09/
CATEGORIES:CONVIVIALITÉ
ATTACH;FMTTYPE=image/jpeg:https://www.lamaisondumarais.ch/wp-content/uploads/2025/10/IMG_1670-scaled.jpeg
END:VEVENT
BEGIN:VEVENT
DTSTART;TZID=Europe/Paris:20270416T103000
DTEND;TZID=Europe/Paris:20270416T120000
DTSTAMP:20260423T123755
CREATED:20251014T093259Z
LAST-MODIFIED:20251014T093448Z
UID:10004160-1807871400-1807876800@www.lamaisondumarais.ch
SUMMARY:Apéro canadien
DESCRIPTION:Chaque vendredi de 10h30 à 12h
URL:https://www.lamaisondumarais.ch/event/apero/2027-04-16/
CATEGORIES:CONVIVIALITÉ
ATTACH;FMTTYPE=image/jpeg:https://www.lamaisondumarais.ch/wp-content/uploads/2025/10/IMG_1670-scaled.jpeg
END:VEVENT
BEGIN:VEVENT
DTSTART;TZID=Europe/Paris:20270423T103000
DTEND;TZID=Europe/Paris:20270423T120000
DTSTAMP:20260423T123755
CREATED:20251014T093259Z
LAST-MODIFIED:20251014T093448Z
UID:10004161-1808476200-1808481600@www.lamaisondumarais.ch
SUMMARY:Apéro canadien
DESCRIPTION:Chaque vendredi de 10h30 à 12h
URL:https://www.lamaisondumarais.ch/event/apero/2027-04-23/
CATEGORIES:CONVIVIALITÉ
ATTACH;FMTTYPE=image/jpeg:https://www.lamaisondumarais.ch/wp-content/uploads/2025/10/IMG_1670-scaled.jpeg
END:VEVENT
BEGIN:VEVENT
DTSTART;TZID=Europe/Paris:20270430T103000
DTEND;TZID=Europe/Paris:20270430T120000
DTSTAMP:20260423T123755
CREATED:20251014T093259Z
LAST-MODIFIED:20251014T093448Z
UID:10004162-1809081000-1809086400@www.lamaisondumarais.ch
SUMMARY:Apéro canadien
DESCRIPTION:Chaque vendredi de 10h30 à 12h
URL:https://www.lamaisondumarais.ch/event/apero/2027-04-30/
CATEGORIES:CONVIVIALITÉ
ATTACH;FMTTYPE=image/jpeg:https://www.lamaisondumarais.ch/wp-content/uploads/2025/10/IMG_1670-scaled.jpeg
END:VEVENT
END:VCALENDAR